BEGIN:VCALENDAR
VERSION:2.0
PRODID:-//Summit Classical Academy - ECPv6.15.20//NONSGML v1.0//EN
CALSCALE:GREGORIAN
METHOD:PUBLISH
X-WR-CALNAME:Summit Classical Academy
X-ORIGINAL-URL:https://summitclassicalacademy.org
X-WR-CALDESC:Events for Summit Classical Academy
REFRESH-INTERVAL;VALUE=DURATION:PT1H
X-Robots-Tag:noindex
X-PUBLISHED-TTL:PT1H
BEGIN:VTIMEZONE
TZID:America/Denver
BEGIN:DAYLIGHT
TZOFFSETFROM:-0700
TZOFFSETTO:-0600
TZNAME:MDT
DTSTART:20210314T090000
END:DAYLIGHT
BEGIN:STANDARD
TZOFFSETFROM:-0600
TZOFFSETTO:-0700
TZNAME:MST
DTSTART:20211107T080000
END:STANDARD
BEGIN:DAYLIGHT
TZOFFSETFROM:-0700
TZOFFSETTO:-0600
TZNAME:MDT
DTSTART:20220313T090000
END:DAYLIGHT
BEGIN:STANDARD
TZOFFSETFROM:-0600
TZOFFSETTO:-0700
TZNAME:MST
DTSTART:20221106T080000
END:STANDARD
BEGIN:DAYLIGHT
TZOFFSETFROM:-0700
TZOFFSETTO:-0600
TZNAME:MDT
DTSTART:20230312T090000
END:DAYLIGHT
BEGIN:STANDARD
TZOFFSETFROM:-0600
TZOFFSETTO:-0700
TZNAME:MST
DTSTART:20231105T080000
END:STANDARD
BEGIN:DAYLIGHT
TZOFFSETFROM:-0700
TZOFFSETTO:-0600
TZNAME:MDT
DTSTART:20240310T090000
END:DAYLIGHT
BEGIN:STANDARD
TZOFFSETFROM:-0600
TZOFFSETTO:-0700
TZNAME:MST
DTSTART:20241103T080000
END:STANDARD
END:VTIMEZONE
BEGIN:VEVENT
DTSTART;TZID=America/Denver:20230316T083000
DTEND;TZID=America/Denver:20230316T153000
DTSTAMP:20260424T102150
CREATED:20221115T221741Z
LAST-MODIFIED:20221115T221741Z
UID:1445-1678955400-1678980600@summitclassicalacademy.org
SUMMARY:End of Quarter/Full Day of School
DESCRIPTION:
URL:https://summitclassicalacademy.org/event/end-of-quarter-full-day-of-school-2/
LOCATION:CO
END:VEVENT
BEGIN:VEVENT
DTSTART;TZID=America/Denver:20230315T083000
DTEND;TZID=America/Denver:20230316T153000
DTSTAMP:20260424T102150
CREATED:20221115T221620Z
LAST-MODIFIED:20221115T221620Z
UID:1444-1678869000-1678980600@summitclassicalacademy.org
SUMMARY:Standardized Testing
DESCRIPTION:
URL:https://summitclassicalacademy.org/event/standardized-testing-2/
LOCATION:CO
END:VEVENT
BEGIN:VEVENT
DTSTART;TZID=America/Denver:20230224T110000
DTEND;TZID=America/Denver:20230224T120000
DTSTAMP:20260424T102150
CREATED:20220816T201622Z
LAST-MODIFIED:20220816T201622Z
UID:1353-1677236400-1677240000@summitclassicalacademy.org
SUMMARY:Warriors in Blue Celebration
DESCRIPTION:
URL:https://summitclassicalacademy.org/event/warriors-in-blue-celebration-2/
LOCATION:CO
END:VEVENT
BEGIN:VEVENT
DTSTART;VALUE=DATE:20230220
DTEND;VALUE=DATE:20230221
DTSTAMP:20260424T102150
CREATED:20220816T201451Z
LAST-MODIFIED:20220816T201451Z
UID:1352-1676851200-1676937599@summitclassicalacademy.org
SUMMARY:Presidents Day - No School
DESCRIPTION:
URL:https://summitclassicalacademy.org/event/presidents-day-no-school-2/
LOCATION:CO
END:VEVENT
BEGIN:VEVENT
DTSTART;VALUE=DATE:20230217
DTEND;VALUE=DATE:20230218
DTSTAMP:20260424T102150
CREATED:20220816T201421Z
LAST-MODIFIED:20220816T201421Z
UID:1351-1676592000-1676678399@summitclassicalacademy.org
SUMMARY:Parent Teacher Conferences - No School
DESCRIPTION:
URL:https://summitclassicalacademy.org/event/parent-teacher-conferences-no-school-3/
LOCATION:CO
END:VEVENT
BEGIN:VEVENT
DTSTART;TZID=America/Denver:20230210T081500
DTEND;TZID=America/Denver:20230210T120000
DTSTAMP:20260424T102150
CREATED:20220816T201332Z
LAST-MODIFIED:20220816T201332Z
UID:1350-1676016900-1676030400@summitclassicalacademy.org
SUMMARY:Staff Development / Early Release
DESCRIPTION:
URL:https://summitclassicalacademy.org/event/staff-development-early-release-9/
LOCATION:CO
END:VEVENT
BEGIN:VEVENT
DTSTART;TZID=America/Denver:20230127T110000
DTEND;TZID=America/Denver:20230127T120000
DTSTAMP:20260424T102150
CREATED:20220816T201247Z
LAST-MODIFIED:20220816T201247Z
UID:1349-1674817200-1674820800@summitclassicalacademy.org
SUMMARY:Dad's Day Celebration
DESCRIPTION:
URL:https://summitclassicalacademy.org/event/dads-day-celebration-2/
LOCATION:CO
END:VEVENT
BEGIN:VEVENT
DTSTART;VALUE=DATE:20230116
DTEND;VALUE=DATE:20230117
DTSTAMP:20260424T102150
CREATED:20220816T201146Z
LAST-MODIFIED:20220816T201146Z
UID:1348-1673827200-1673913599@summitclassicalacademy.org
SUMMARY:MLK Day - No School
DESCRIPTION:
URL:https://summitclassicalacademy.org/event/mlk-day-no-school-2/
LOCATION:CO
END:VEVENT
BEGIN:VEVENT
DTSTART;TZID=America/Denver:20230113T081500
DTEND;TZID=America/Denver:20230113T120000
DTSTAMP:20260424T102150
CREATED:20220816T201104Z
LAST-MODIFIED:20220816T201104Z
UID:1347-1673597700-1673611200@summitclassicalacademy.org
SUMMARY:Staff Development / Early Release
DESCRIPTION:
URL:https://summitclassicalacademy.org/event/staff-development-early-release-8/
LOCATION:CO
END:VEVENT
BEGIN:VEVENT
DTSTART;TZID=America/Denver:20230104T081500
DTEND;TZID=America/Denver:20230104T153000
DTSTAMP:20260424T102150
CREATED:20220816T201016Z
LAST-MODIFIED:20220816T201016Z
UID:1346-1672820100-1672846200@summitclassicalacademy.org
SUMMARY:Students Return
DESCRIPTION:
URL:https://summitclassicalacademy.org/event/students-return/
LOCATION:CO
END:VEVENT
BEGIN:VEVENT
DTSTART;VALUE=DATE:20230103
DTEND;VALUE=DATE:20230104
DTSTAMP:20260424T102150
CREATED:20220816T200903Z
LAST-MODIFIED:20220816T200903Z
UID:1344-1672704000-1672790399@summitclassicalacademy.org
SUMMARY:Teacher Inservice - No Students
DESCRIPTION:
URL:https://summitclassicalacademy.org/event/teacher-inservice-no-students-5/
LOCATION:CO
END:VEVENT
BEGIN:VEVENT
DTSTART;VALUE=DATE:20230102
DTEND;VALUE=DATE:20230103
DTSTAMP:20260424T102150
CREATED:20220816T200938Z
LAST-MODIFIED:20220816T200938Z
UID:1345-1672617600-1672703999@summitclassicalacademy.org
SUMMARY:Christmas Break
DESCRIPTION:
URL:https://summitclassicalacademy.org/event/christmas-break-3/
LOCATION:CO
END:VEVENT
BEGIN:VEVENT
DTSTART;VALUE=DATE:20221219
DTEND;VALUE=DATE:20221231
DTSTAMP:20260424T102150
CREATED:20220816T200738Z
LAST-MODIFIED:20220816T200749Z
UID:1343-1671408000-1672444799@summitclassicalacademy.org
SUMMARY:Christmas Break
DESCRIPTION:
URL:https://summitclassicalacademy.org/event/christmas-break-2/
LOCATION:CO
END:VEVENT
BEGIN:VEVENT
DTSTART;TZID=America/Denver:20221216T081500
DTEND;TZID=America/Denver:20221216T120000
DTSTAMP:20260424T102150
CREATED:20220816T200535Z
LAST-MODIFIED:20220816T200535Z
UID:1341-1671178500-1671192000@summitclassicalacademy.org
SUMMARY:End of Quarter / Early Release
DESCRIPTION:
URL:https://summitclassicalacademy.org/event/end-of-quarter-early-release-3/
LOCATION:CO
END:VEVENT
BEGIN:VEVENT
DTSTART;TZID=America/Denver:20221213T180000
DTEND;TZID=America/Denver:20221213T200000
DTSTAMP:20260424T102150
CREATED:20220816T200446Z
LAST-MODIFIED:20221115T221431Z
UID:1340-1670954400-1670961600@summitclassicalacademy.org
SUMMARY:Christmas Concert and Art Show
DESCRIPTION:
URL:https://summitclassicalacademy.org/event/christmas-concert-and-art-show-2/
LOCATION:CO
END:VEVENT
BEGIN:VEVENT
DTSTART;VALUE=DATE:20221121
DTEND;VALUE=DATE:20221126
DTSTAMP:20260424T102150
CREATED:20220816T200300Z
LAST-MODIFIED:20220816T200300Z
UID:1339-1668988800-1669420799@summitclassicalacademy.org
SUMMARY:Thanksgiving Break
DESCRIPTION:
URL:https://summitclassicalacademy.org/event/thanksgiving-break-2/
LOCATION:CO
END:VEVENT
BEGIN:VEVENT
DTSTART;TZID=America/Denver:20221118T081500
DTEND;TZID=America/Denver:20221118T120000
DTSTAMP:20260424T102150
CREATED:20220816T200007Z
LAST-MODIFIED:20220816T200007Z
UID:1338-1668759300-1668772800@summitclassicalacademy.org
SUMMARY:Staff Development / Early Release
DESCRIPTION:
URL:https://summitclassicalacademy.org/event/staff-development-early-release-7/
LOCATION:CO
END:VEVENT
BEGIN:VEVENT
DTSTART;TZID=America/Denver:20221111T110000
DTEND;TZID=America/Denver:20221111T120000
DTSTAMP:20260424T102150
CREATED:20220816T195848Z
LAST-MODIFIED:20220816T195848Z
UID:1337-1668164400-1668168000@summitclassicalacademy.org
SUMMARY:Veterans Day Chapel
DESCRIPTION:
URL:https://summitclassicalacademy.org/event/veterans-day-chapel-2/
LOCATION:CO
END:VEVENT
BEGIN:VEVENT
DTSTART;VALUE=DATE:20221104
DTEND;VALUE=DATE:20221119
DTSTAMP:20260424T102150
CREATED:20221102T020403Z
LAST-MODIFIED:20221102T023346Z
UID:1406-1667520000-1668815999@summitclassicalacademy.org
SUMMARY:Building HIS Kingdom Third Annual Virtual Fundraiser
DESCRIPTION:
URL:https://summitclassicalacademy.org/event/building-his-kingdom-third-annual-virtual-fundraiser/
LOCATION:CO
END:VEVENT
BEGIN:VEVENT
DTSTART;VALUE=DATE:20221017
DTEND;VALUE=DATE:20221018
DTSTAMP:20260424T102150
CREATED:20220816T195732Z
LAST-MODIFIED:20220816T195732Z
UID:1336-1665964800-1666051199@summitclassicalacademy.org
SUMMARY:Teacher Inservice - No Students
DESCRIPTION:
URL:https://summitclassicalacademy.org/event/teacher-inservice-no-students-4/
LOCATION:CO
END:VEVENT
BEGIN:VEVENT
DTSTART;TZID=America/Denver:20221014T081500
DTEND;TZID=America/Denver:20221014T120000
DTSTAMP:20260424T102150
CREATED:20220816T195614Z
LAST-MODIFIED:20220816T195633Z
UID:1335-1665735300-1665748800@summitclassicalacademy.org
SUMMARY:End of Quarter & Staff Development  - Early Release
DESCRIPTION:
URL:https://summitclassicalacademy.org/event/end-of-quarter-staff-development-early-release/
LOCATION:CO
END:VEVENT
BEGIN:VEVENT
DTSTART;TZID=America/Denver:20221007T153000
DTEND;TZID=America/Denver:20221007T170000
DTSTAMP:20260424T102150
CREATED:20220816T195445Z
LAST-MODIFIED:20220816T195445Z
UID:1334-1665156600-1665162000@summitclassicalacademy.org
SUMMARY:Family Fall Festival
DESCRIPTION:
URL:https://summitclassicalacademy.org/event/family-fall-festival-2/
LOCATION:CO
END:VEVENT
BEGIN:VEVENT
DTSTART;VALUE=DATE:20220923
DTEND;VALUE=DATE:20220924
DTSTAMP:20260424T102150
CREATED:20220816T195403Z
LAST-MODIFIED:20220816T195403Z
UID:1333-1663891200-1663977599@summitclassicalacademy.org
SUMMARY:Parent Teacher Conferences - No School
DESCRIPTION:
URL:https://summitclassicalacademy.org/event/parent-teacher-conferences-no-school-2/
LOCATION:CO
END:VEVENT
BEGIN:VEVENT
DTSTART;TZID=America/Denver:20220916T080000
DTEND;TZID=America/Denver:20220916T120000
DTSTAMP:20260424T102150
CREATED:20220816T195055Z
LAST-MODIFIED:20220816T195055Z
UID:1332-1663315200-1663329600@summitclassicalacademy.org
SUMMARY:Staff Development / Early Release
DESCRIPTION:
URL:https://summitclassicalacademy.org/event/staff-development-early-release-6/
LOCATION:CO
END:VEVENT
BEGIN:VEVENT
DTSTART;VALUE=DATE:20220905
DTEND;VALUE=DATE:20220906
DTSTAMP:20260424T102150
CREATED:20220816T194737Z
LAST-MODIFIED:20220816T194737Z
UID:1331-1662336000-1662422399@summitclassicalacademy.org
SUMMARY:Labor Day - No School
DESCRIPTION:
URL:https://summitclassicalacademy.org/event/labor-day-no-school-2/
LOCATION:CO
END:VEVENT
BEGIN:VEVENT
DTSTART;TZID=America/Denver:20220817T081500
DTEND;TZID=America/Denver:20220817T153000
DTSTAMP:20260424T102150
CREATED:20220815T154502Z
LAST-MODIFIED:20220815T155257Z
UID:1326-1660724100-1660750200@summitclassicalacademy.org
SUMMARY:First Day of School
DESCRIPTION:We will kick off the year together on Wednesday with a First Day of School Celebration (8:15 a.m.)! Students and families can gather outside on the lawn as early as 8:00 a.m. \n\n\nAfter the students have gone into their classrooms\, the WPC will be providing coffee and breakfast treats for any parents who want to stay and chat. \n\n\nThe first day of school will end at 3:30. You can pick up your student(s) between 3:30-3:45 p.m.
URL:https://summitclassicalacademy.org/event/first-day-of-school/
LOCATION:Summit Classical Academy\, 3031 West 144th Avenue\, Broomfield\, CO\, 80023\, United States
END:VEVENT
BEGIN:VEVENT
DTSTART;TZID=America/Denver:20220816T120000
DTEND;TZID=America/Denver:20220816T160000
DTSTAMP:20260424T102150
CREATED:20220816T200638Z
LAST-MODIFIED:20220816T200638Z
UID:1342-1660651200-1660665600@summitclassicalacademy.org
SUMMARY:Staff Development / Staff Christmas Celebration
DESCRIPTION:
URL:https://summitclassicalacademy.org/event/staff-development-staff-christmas-celebration-2/
LOCATION:CO
END:VEVENT
BEGIN:VEVENT
DTSTART;TZID=America/Denver:20220815T180000
DTEND;TZID=America/Denver:20220815T200000
DTSTAMP:20260424T102150
CREATED:20220815T155209Z
LAST-MODIFIED:20220815T155209Z
UID:1328-1660586400-1660593600@summitclassicalacademy.org
SUMMARY:Parent Orientation
DESCRIPTION:A mandatory meeting Monday evening for at least one parent (but preferably both parents) in a family. This is for parents only\, and there will be no childcare provided. \n\nThe evening will begin with an all-parent gathering at 6:00 p.m. in the sanctuary of RSLC (our chapel space).\nClassroom teachers and specialists will be holding sessions throughout the rest of the evening to give you class-specific information and documentation.\nYou will also receive paperwork to complete from the front desk.\nMrs. Fraser will be available to answer questions.\nThe Warrior Parent Community (WPC) will have sign ups available for various committees and will be available to answer questions.\nYou may also sign up for “Hit the Ground Running\,” our running club that will begin Monday\, August 22.
URL:https://summitclassicalacademy.org/event/parent-orientation/
LOCATION:Summit Classical Academy\, 3031 West 144th Avenue\, Broomfield\, CO\, 80023\, United States
END:VEVENT
BEGIN:VEVENT
DTSTART;TZID=America/Denver:20220815T093000
DTEND;TZID=America/Denver:20220815T113000
DTSTAMP:20260424T102150
CREATED:20220815T154956Z
LAST-MODIFIED:20220815T154956Z
UID:1327-1660555800-1660563000@summitclassicalacademy.org
SUMMARY:Open House
DESCRIPTION:A time for you and your student(s) to meet teachers\, see classrooms\, and drop off school supplies. Feel free to swing by at any point in this window of time! You don’t need to be here for the full two hours unless you would like to be.
URL:https://summitclassicalacademy.org/event/open-house/
LOCATION:Summit Classical Academy\, 3031 West 144th Avenue\, Broomfield\, CO\, 80023\, United States
END:VEVENT
BEGIN:VEVENT
DTSTART;VALUE=DATE:20220526
DTEND;VALUE=DATE:20220528
DTSTAMP:20260424T102150
CREATED:20210716T184622Z
LAST-MODIFIED:20210716T184622Z
UID:1040-1653523200-1653695999@summitclassicalacademy.org
SUMMARY:Teacher Inservice
DESCRIPTION:
URL:https://summitclassicalacademy.org/event/teacher-inservice-2/
LOCATION:CO
END:VEVENT
END:VCALENDAR