BEGIN:VCALENDAR
VERSION:2.0
PRODID:-//Summit Classical Academy - ECPv6.15.20//NONSGML v1.0//EN
CALSCALE:GREGORIAN
METHOD:PUBLISH
X-WR-CALNAME:Summit Classical Academy
X-ORIGINAL-URL:https://summitclassicalacademy.org
X-WR-CALDESC:Events for Summit Classical Academy
REFRESH-INTERVAL;VALUE=DURATION:PT1H
X-Robots-Tag:noindex
X-PUBLISHED-TTL:PT1H
BEGIN:VTIMEZONE
TZID:America/Denver
BEGIN:DAYLIGHT
TZOFFSETFROM:-0700
TZOFFSETTO:-0600
TZNAME:MDT
DTSTART:20220313T090000
END:DAYLIGHT
BEGIN:STANDARD
TZOFFSETFROM:-0600
TZOFFSETTO:-0700
TZNAME:MST
DTSTART:20221106T080000
END:STANDARD
BEGIN:DAYLIGHT
TZOFFSETFROM:-0700
TZOFFSETTO:-0600
TZNAME:MDT
DTSTART:20230312T090000
END:DAYLIGHT
BEGIN:STANDARD
TZOFFSETFROM:-0600
TZOFFSETTO:-0700
TZNAME:MST
DTSTART:20231105T080000
END:STANDARD
BEGIN:DAYLIGHT
TZOFFSETFROM:-0700
TZOFFSETTO:-0600
TZNAME:MDT
DTSTART:20240310T090000
END:DAYLIGHT
BEGIN:STANDARD
TZOFFSETFROM:-0600
TZOFFSETTO:-0700
TZNAME:MST
DTSTART:20241103T080000
END:STANDARD
BEGIN:DAYLIGHT
TZOFFSETFROM:-0700
TZOFFSETTO:-0600
TZNAME:MDT
DTSTART:20250309T090000
END:DAYLIGHT
BEGIN:STANDARD
TZOFFSETFROM:-0600
TZOFFSETTO:-0700
TZNAME:MST
DTSTART:20251102T080000
END:STANDARD
END:VTIMEZONE
BEGIN:VEVENT
DTSTART;VALUE=DATE:20240216
DTEND;VALUE=DATE:20240217
DTSTAMP:20260421T173041
CREATED:20230821T223359Z
LAST-MODIFIED:20230821T223359Z
UID:1630-1708041600-1708127999@summitclassicalacademy.org
SUMMARY:Parent/Teacher Conferences | No School
DESCRIPTION:
URL:https://summitclassicalacademy.org/event/parent-teacher-conferences-no-school-5/
END:VEVENT
BEGIN:VEVENT
DTSTART;TZID=America/Denver:20240209T081500
DTEND;TZID=America/Denver:20240209T120000
DTSTAMP:20260421T173041
CREATED:20230821T223247Z
LAST-MODIFIED:20230821T223247Z
UID:1629-1707466500-1707480000@summitclassicalacademy.org
SUMMARY:Staff Development | Early Release
DESCRIPTION:
URL:https://summitclassicalacademy.org/event/staff-development-early-release-14/
END:VEVENT
BEGIN:VEVENT
DTSTART;TZID=America/Denver:20240126T090000
DTEND;TZID=America/Denver:20240126T103000
DTSTAMP:20260421T173041
CREATED:20230821T223152Z
LAST-MODIFIED:20230821T223152Z
UID:1628-1706259600-1706265000@summitclassicalacademy.org
SUMMARY:Dad's Day Celebration
DESCRIPTION:
URL:https://summitclassicalacademy.org/event/dads-day-celebration-3/
END:VEVENT
BEGIN:VEVENT
DTSTART;TZID=America/Denver:20240119T180000
DTEND;TZID=America/Denver:20240119T210000
DTSTAMP:20260421T173041
CREATED:20231127T213135Z
LAST-MODIFIED:20231127T213135Z
UID:1788-1705687200-1705698000@summitclassicalacademy.org
SUMMARY:SCA Family Talent Show
DESCRIPTION:
URL:https://summitclassicalacademy.org/event/sca-family-talent-show/
END:VEVENT
BEGIN:VEVENT
DTSTART;VALUE=DATE:20240115
DTEND;VALUE=DATE:20240116
DTSTAMP:20260421T173041
CREATED:20230821T223047Z
LAST-MODIFIED:20230821T223047Z
UID:1627-1705276800-1705363199@summitclassicalacademy.org
SUMMARY:MLK Day | No School
DESCRIPTION:
URL:https://summitclassicalacademy.org/event/mlk-day-no-school-3/
END:VEVENT
BEGIN:VEVENT
DTSTART;TZID=America/Denver:20240109T081500
DTEND;TZID=America/Denver:20240109T153000
DTSTAMP:20260421T173041
CREATED:20230821T223016Z
LAST-MODIFIED:20230821T223016Z
UID:1626-1704788100-1704814200@summitclassicalacademy.org
SUMMARY:Students Return from Christmas Break
DESCRIPTION:
URL:https://summitclassicalacademy.org/event/students-return-from-christmas-break/
END:VEVENT
BEGIN:VEVENT
DTSTART;VALUE=DATE:20240108
DTEND;VALUE=DATE:20240109
DTSTAMP:20260421T173041
CREATED:20230821T222927Z
LAST-MODIFIED:20230821T222927Z
UID:1625-1704672000-1704758399@summitclassicalacademy.org
SUMMARY:Teacher Inservice | No School
DESCRIPTION:
URL:https://summitclassicalacademy.org/event/teacher-inservice-no-school-2/
END:VEVENT
BEGIN:VEVENT
DTSTART;VALUE=DATE:20231225
DTEND;VALUE=DATE:20240106
DTSTAMP:20260421T173041
CREATED:20230821T222644Z
LAST-MODIFIED:20230821T222822Z
UID:1623-1703462400-1704499199@summitclassicalacademy.org
SUMMARY:Christmas Break | No School
DESCRIPTION:
URL:https://summitclassicalacademy.org/event/christmas-break-no-school/
END:VEVENT
BEGIN:VEVENT
DTSTART;TZID=America/Denver:20231222T081500
DTEND;TZID=America/Denver:20231222T120000
DTSTAMP:20260421T173041
CREATED:20230821T222236Z
LAST-MODIFIED:20230821T222539Z
UID:1621-1703232900-1703246400@summitclassicalacademy.org
SUMMARY:End of Quarter | Early Release | Staff Development  | Staff Christmas Party
DESCRIPTION:
URL:https://summitclassicalacademy.org/event/end-of-quarter-early-release-6/
END:VEVENT
BEGIN:VEVENT
DTSTART;TZID=America/Denver:20231218T180000
DTEND;TZID=America/Denver:20231218T203000
DTSTAMP:20260421T173041
CREATED:20231127T212431Z
LAST-MODIFIED:20231127T212431Z
UID:1787-1702922400-1702931400@summitclassicalacademy.org
SUMMARY:Art Show
DESCRIPTION:
URL:https://summitclassicalacademy.org/event/art-show/
END:VEVENT
BEGIN:VEVENT
DTSTART;TZID=America/Denver:20231214T180000
DTEND;TZID=America/Denver:20231214T200000
DTSTAMP:20260421T173041
CREATED:20230821T222127Z
LAST-MODIFIED:20231127T222845Z
UID:1620-1702576800-1702584000@summitclassicalacademy.org
SUMMARY:Christmas Concert at BRAVE Church
DESCRIPTION:
URL:https://summitclassicalacademy.org/event/christmas-concert/
LOCATION:BRAVE Chuch\, 11500 Sheridan Blvd\, Westminster\, 80020
END:VEVENT
BEGIN:VEVENT
DTSTART;VALUE=DATE:20231120
DTEND;VALUE=DATE:20231125
DTSTAMP:20260421T173041
CREATED:20230821T221823Z
LAST-MODIFIED:20230821T221848Z
UID:1619-1700438400-1700870399@summitclassicalacademy.org
SUMMARY:Thanksgiving Break | No School
DESCRIPTION:
URL:https://summitclassicalacademy.org/event/thanksgiving-break-no-school/
END:VEVENT
BEGIN:VEVENT
DTSTART;TZID=America/Denver:20231117T081500
DTEND;TZID=America/Denver:20231117T120000
DTSTAMP:20260421T173041
CREATED:20230821T220845Z
LAST-MODIFIED:20230821T220845Z
UID:1618-1700208900-1700222400@summitclassicalacademy.org
SUMMARY:Staff Development | Early Release
DESCRIPTION:
URL:https://summitclassicalacademy.org/event/staff-development-early-release-13/
END:VEVENT
BEGIN:VEVENT
DTSTART;VALUE=DATE:20231104
DTEND;VALUE=DATE:20231105
DTSTAMP:20260421T173041
CREATED:20230821T220631Z
LAST-MODIFIED:20230821T220631Z
UID:1616-1699056000-1699142399@summitclassicalacademy.org
SUMMARY:Fall Fundraiser
DESCRIPTION:
URL:https://summitclassicalacademy.org/event/fall-fundraiser/
END:VEVENT
BEGIN:VEVENT
DTSTART;VALUE=DATE:20231025
DTEND;VALUE=DATE:20231028
DTSTAMP:20260421T173041
CREATED:20230821T220535Z
LAST-MODIFIED:20230821T220535Z
UID:1615-1698192000-1698451199@summitclassicalacademy.org
SUMMARY:Middle School Outdoor Education
DESCRIPTION:
URL:https://summitclassicalacademy.org/event/middle-school-outdoor-education/
END:VEVENT
BEGIN:VEVENT
DTSTART;VALUE=DATE:20231016
DTEND;VALUE=DATE:20231017
DTSTAMP:20260421T173041
CREATED:20230821T220240Z
LAST-MODIFIED:20230821T221123Z
UID:1614-1697414400-1697500799@summitclassicalacademy.org
SUMMARY:Teacher Inservice | No School
DESCRIPTION:
URL:https://summitclassicalacademy.org/event/teacher-inservice-no-school/
END:VEVENT
BEGIN:VEVENT
DTSTART;TZID=America/Denver:20231013T081500
DTEND;TZID=America/Denver:20231013T120000
DTSTAMP:20260421T173041
CREATED:20230821T220138Z
LAST-MODIFIED:20230821T220153Z
UID:1613-1697184900-1697198400@summitclassicalacademy.org
SUMMARY:End of Quarter | Early Release | Staff Development
DESCRIPTION:
URL:https://summitclassicalacademy.org/event/end-of-quarter-early-release-5/
END:VEVENT
BEGIN:VEVENT
DTSTART;TZID=America/Denver:20231006T153000
DTEND;TZID=America/Denver:20231006T170000
DTSTAMP:20260421T173041
CREATED:20230821T220010Z
LAST-MODIFIED:20230821T220010Z
UID:1612-1696606200-1696611600@summitclassicalacademy.org
SUMMARY:Family Fall Festival
DESCRIPTION:
URL:https://summitclassicalacademy.org/event/family-fall-festival-3/
END:VEVENT
BEGIN:VEVENT
DTSTART;VALUE=DATE:20230922
DTEND;VALUE=DATE:20230923
DTSTAMP:20260421T173041
CREATED:20230821T215738Z
LAST-MODIFIED:20230821T221045Z
UID:1611-1695340800-1695427199@summitclassicalacademy.org
SUMMARY:Parent Teacher Conferences | No School
DESCRIPTION:
URL:https://summitclassicalacademy.org/event/parent-teacher-conferences-no-school-4/
END:VEVENT
BEGIN:VEVENT
DTSTART;TZID=America/Denver:20230921T180000
DTEND;TZID=America/Denver:20230921T200000
DTSTAMP:20260421T173041
CREATED:20230905T203526Z
LAST-MODIFIED:20230905T203526Z
UID:1655-1695319200-1695326400@summitclassicalacademy.org
SUMMARY:Board Meeting
DESCRIPTION:
URL:https://summitclassicalacademy.org/event/board-meeting-5/
END:VEVENT
BEGIN:VEVENT
DTSTART;TZID=America/Denver:20230915T080000
DTEND;TZID=America/Denver:20230915T120000
DTSTAMP:20260421T173041
CREATED:20230821T215521Z
LAST-MODIFIED:20230821T215641Z
UID:1610-1694764800-1694779200@summitclassicalacademy.org
SUMMARY:Staff Development / Early Release
DESCRIPTION:
URL:https://summitclassicalacademy.org/event/staff-development-early-release-12/
END:VEVENT
BEGIN:VEVENT
DTSTART;VALUE=DATE:20230904
DTEND;VALUE=DATE:20230905
DTSTAMP:20260421T173041
CREATED:20230821T215440Z
LAST-MODIFIED:20230821T221006Z
UID:1609-1693785600-1693871999@summitclassicalacademy.org
SUMMARY:Labor Day - No School
DESCRIPTION:
URL:https://summitclassicalacademy.org/event/labor-day-no-school-3/
END:VEVENT
BEGIN:VEVENT
DTSTART;TZID=America/Denver:20230823T180000
DTEND;TZID=America/Denver:20230823T200000
DTSTAMP:20260421T173041
CREATED:20230821T213941Z
LAST-MODIFIED:20230821T214136Z
UID:1608-1692813600-1692820800@summitclassicalacademy.org
SUMMARY:Monthly Board Meeting
DESCRIPTION:Online Link: https://meet.google.com/jcs-wsri-zhp
URL:https://summitclassicalacademy.org/event/monthly-board-meeting/
END:VEVENT
BEGIN:VEVENT
DTSTART;TZID=America/Denver:20230821T093000
DTEND;TZID=America/Denver:20230821T230000
DTSTAMP:20260421T173041
CREATED:20230821T220735Z
LAST-MODIFIED:20230821T220735Z
UID:1617-1692610200-1692658800@summitclassicalacademy.org
SUMMARY:Veterans Day Chapel
DESCRIPTION:
URL:https://summitclassicalacademy.org/event/veterans-day-chapel-3/
END:VEVENT
BEGIN:VEVENT
DTSTART;VALUE=DATE:20230821
DTEND;VALUE=DATE:20230822
DTSTAMP:20260421T173041
CREATED:20230821T230031Z
LAST-MODIFIED:20230821T230031Z
UID:1647-1692576000-1692662399@summitclassicalacademy.org
SUMMARY:Last Day of School | Family Celebration  (PM)
DESCRIPTION:
URL:https://summitclassicalacademy.org/event/last-day-of-school-family-celebration-pm-2/
END:VEVENT
BEGIN:VEVENT
DTSTART;TZID=America/Denver:20230525T080000
DTEND;TZID=America/Denver:20230526T170000
DTSTAMP:20260421T173041
CREATED:20221115T224448Z
LAST-MODIFIED:20221115T224448Z
UID:1458-1685001600-1685120400@summitclassicalacademy.org
SUMMARY:Teacher Inservice
DESCRIPTION:
URL:https://summitclassicalacademy.org/event/teacher-inservice-3/
END:VEVENT
BEGIN:VEVENT
DTSTART;TZID=America/Denver:20230524T081500
DTEND;TZID=America/Denver:20230524T120000
DTSTAMP:20260421T173041
CREATED:20221115T224405Z
LAST-MODIFIED:20221115T224405Z
UID:1457-1684916100-1684929600@summitclassicalacademy.org
SUMMARY:Last Day of School / Family Celebration (PM)
DESCRIPTION:
URL:https://summitclassicalacademy.org/event/last-day-of-school-family-celebration-pm/
END:VEVENT
BEGIN:VEVENT
DTSTART;TZID=America/Denver:20230524T081500
DTEND;TZID=America/Denver:20230524T120000
DTSTAMP:20260421T173041
CREATED:20221115T224132Z
LAST-MODIFIED:20221115T224132Z
UID:1456-1684916100-1684929600@summitclassicalacademy.org
SUMMARY:End of Quarter / Early Release
DESCRIPTION:
URL:https://summitclassicalacademy.org/event/end-of-quarter-early-release-4/
END:VEVENT
BEGIN:VEVENT
DTSTART;TZID=America/Denver:20230522T081500
DTEND;TZID=America/Denver:20230522T153000
DTSTAMP:20260421T173041
CREATED:20221115T224039Z
LAST-MODIFIED:20221115T224039Z
UID:1455-1684743300-1684769400@summitclassicalacademy.org
SUMMARY:Field Day
DESCRIPTION:
URL:https://summitclassicalacademy.org/event/field-day-2/
END:VEVENT
BEGIN:VEVENT
DTSTART;TZID=America/Denver:20230513T183000
DTEND;TZID=America/Denver:20230513T213000
DTSTAMP:20260421T173041
CREATED:20221115T223958Z
LAST-MODIFIED:20221115T223958Z
UID:1454-1684002600-1684013400@summitclassicalacademy.org
SUMMARY:Spring Fundraiser
DESCRIPTION:
URL:https://summitclassicalacademy.org/event/spring-fundraiser-2/
END:VEVENT
END:VCALENDAR