BEGIN:VCALENDAR
VERSION:2.0
PRODID:-//Summit Classical Academy - ECPv6.15.20//NONSGML v1.0//EN
CALSCALE:GREGORIAN
METHOD:PUBLISH
X-ORIGINAL-URL:https://summitclassicalacademy.org
X-WR-CALDESC:Events for Summit Classical Academy
REFRESH-INTERVAL;VALUE=DURATION:PT1H
X-Robots-Tag:noindex
X-PUBLISHED-TTL:PT1H
BEGIN:VTIMEZONE
TZID:America/Denver
BEGIN:DAYLIGHT
TZOFFSETFROM:-0700
TZOFFSETTO:-0600
TZNAME:MDT
DTSTART:20240310T090000
END:DAYLIGHT
BEGIN:STANDARD
TZOFFSETFROM:-0600
TZOFFSETTO:-0700
TZNAME:MST
DTSTART:20241103T080000
END:STANDARD
BEGIN:DAYLIGHT
TZOFFSETFROM:-0700
TZOFFSETTO:-0600
TZNAME:MDT
DTSTART:20250309T090000
END:DAYLIGHT
BEGIN:STANDARD
TZOFFSETFROM:-0600
TZOFFSETTO:-0700
TZNAME:MST
DTSTART:20251102T080000
END:STANDARD
BEGIN:DAYLIGHT
TZOFFSETFROM:-0700
TZOFFSETTO:-0600
TZNAME:MDT
DTSTART:20260308T090000
END:DAYLIGHT
BEGIN:STANDARD
TZOFFSETFROM:-0600
TZOFFSETTO:-0700
TZNAME:MST
DTSTART:20261101T080000
END:STANDARD
END:VTIMEZONE
BEGIN:VEVENT
DTSTART;TZID=America/Denver:20250228T080000
DTEND;TZID=America/Denver:20250228T150000
DTSTAMP:20260421T192008
CREATED:20250207T180856Z
LAST-MODIFIED:20250207T180856Z
UID:2769-1740729600-1740754800@summitclassicalacademy.org
SUMMARY:Denver Metro Science & Engineering Fair @CU Denver
DESCRIPTION:
URL:https://summitclassicalacademy.org/event/denver-metro-science-engineering-fair-cu-denver/
LOCATION:CU Denver Wellness Center\, 1355 12th Street\, Denver\, CO\, 80204\, United States
END:VEVENT
BEGIN:VEVENT
DTSTART;TZID=America/Denver:20250305T081500
DTEND;TZID=America/Denver:20250305T153000
DTSTAMP:20260421T192008
CREATED:20241004T161730Z
LAST-MODIFIED:20241004T161730Z
UID:2248-1741162500-1741188600@summitclassicalacademy.org
SUMMARY:Musical Showcase
DESCRIPTION:Musical Showcase Chapel Special \nUpper School begins at 8:15am \nLower School begins at 2:15pm \nEach quarter\, SCA holds a Musical Showcase on campus.  This is a time where any interested SCA students may prepare an instrumental song or a vocal piece\, and audition to share it with the school.  This opportunity allows students to grow in confidence by sharing and presenting music in an encouraging environment for their fellow students\, SCA families and friends.  Musical Showcases will be on Chapel days on the following dates: October 23rd\, December 18th\, March 5th\, and May 14th.  Upper school showcases will begin at 8:15am.  Lower school showcases will begin at 2:15pm.
URL:https://summitclassicalacademy.org/event/musical-showcase-3/
END:VEVENT
BEGIN:VEVENT
DTSTART;TZID=America/Denver:20250307T090000
DTEND;TZID=America/Denver:20250307T100000
DTSTAMP:20260421T192008
CREATED:20240924T162814Z
LAST-MODIFIED:20250225T144202Z
UID:2186-1741338000-1741341600@summitclassicalacademy.org
SUMMARY:Mom's Day Celebration
DESCRIPTION:
URL:https://summitclassicalacademy.org/event/moms-day-celebration/
END:VEVENT
BEGIN:VEVENT
DTSTART;VALUE=DATE:20250310
DTEND;VALUE=DATE:20250314
DTSTAMP:20260421T192008
CREATED:20240924T162740Z
LAST-MODIFIED:20240924T162740Z
UID:2185-1741564800-1741910399@summitclassicalacademy.org
SUMMARY:Standardized Testing
DESCRIPTION:
URL:https://summitclassicalacademy.org/event/standardized-testing-4/
END:VEVENT
BEGIN:VEVENT
DTSTART;TZID=America/Denver:20250310T160000
DTEND;TZID=America/Denver:20250310T180000
DTSTAMP:20260421T192008
CREATED:20250225T144051Z
LAST-MODIFIED:20250225T144051Z
UID:2787-1741622400-1741629600@summitclassicalacademy.org
SUMMARY:Girls Volleyball Clinic: Setting
DESCRIPTION:5th-10th grade girls \nMonday from 4:00pm-6:00pm at VRA \n$15.00 per clinic
URL:https://summitclassicalacademy.org/event/girls-volleyball-clinic-setting/
LOCATION:Vista Ridge Academy\, 3100 Ridge View Dr\, Erie\, 80516\, United States
END:VEVENT
BEGIN:VEVENT
DTSTART;VALUE=DATE:20250313
DTEND;VALUE=DATE:20250314
DTSTAMP:20260421T192008
CREATED:20240924T162914Z
LAST-MODIFIED:20240924T162914Z
UID:2187-1741824000-1741910399@summitclassicalacademy.org
SUMMARY:End of Q3/ Full Day of School
DESCRIPTION:
URL:https://summitclassicalacademy.org/event/end-of-q3-full-day-of-school/
END:VEVENT
BEGIN:VEVENT
DTSTART;TZID=America/Denver:20250314T080000
DTEND;TZID=America/Denver:20250314T160000
DTSTAMP:20260421T192008
CREATED:20240924T163104Z
LAST-MODIFIED:20240924T163104Z
UID:2190-1741939200-1741968000@summitclassicalacademy.org
SUMMARY:Teacher Inservice/ No School
DESCRIPTION:
URL:https://summitclassicalacademy.org/event/teacher-inservice-no-school-5/
END:VEVENT
BEGIN:VEVENT
DTSTART;VALUE=DATE:20250317
DTEND;VALUE=DATE:20250322
DTSTAMP:20260421T192008
CREATED:20240924T162937Z
LAST-MODIFIED:20240924T162937Z
UID:2188-1742169600-1742601599@summitclassicalacademy.org
SUMMARY:Spring Break
DESCRIPTION:
URL:https://summitclassicalacademy.org/event/spring-break-4/
END:VEVENT
BEGIN:VEVENT
DTSTART;TZID=America/Denver:20250324T160000
DTEND;TZID=America/Denver:20250324T180000
DTSTAMP:20260421T192008
CREATED:20250225T160218Z
LAST-MODIFIED:20250225T160218Z
UID:2788-1742832000-1742839200@summitclassicalacademy.org
SUMMARY:Girls Volleyball Clinic: Serve/Serve Receive
DESCRIPTION:5th-10th grade girls \nMonday from 4:00pm-6:00pm at VRA \n$15.00 per clinic
URL:https://summitclassicalacademy.org/event/girls-volleyball-clinic-serve-serve-receive/
LOCATION:Vista Ridge Academy\, 3100 Ridge View Dr\, Erie\, 80516\, United States
END:VEVENT
BEGIN:VEVENT
DTSTART;TZID=America/Denver:20250325T160000
DTEND;TZID=America/Denver:20250325T183000
DTSTAMP:20260421T192008
CREATED:20250325T161724Z
LAST-MODIFIED:20250325T161724Z
UID:2807-1742918400-1742927400@summitclassicalacademy.org
SUMMARY:Middle School Boys Baseball Game (AWAY)
DESCRIPTION:MS B&A 4:00pm & 5:30pm \nMile High Academy
URL:https://summitclassicalacademy.org/event/middle-school-boys-baseball-game-away/
LOCATION:Mile High Academy\, 1733 Dad Clark Dr.\, Highlands Ranch\, CO\, 80126\, United States
END:VEVENT
BEGIN:VEVENT
DTSTART;TZID=America/Denver:20250327T180000
DTEND;TZID=America/Denver:20250327T193000
DTSTAMP:20260421T192008
CREATED:20240924T163019Z
LAST-MODIFIED:20240924T163019Z
UID:2189-1743098400-1743103800@summitclassicalacademy.org
SUMMARY:SCA Board Meeting
DESCRIPTION:
URL:https://summitclassicalacademy.org/event/sca-board-meeting-3/
LOCATION:Summit Classical Academy\, 3031 West 144th Avenue\, Broomfield\, CO\, 80023\, United States
END:VEVENT
BEGIN:VEVENT
DTSTART;TZID=America/Denver:20250328T160000
DTEND;TZID=America/Denver:20250328T183000
DTSTAMP:20260421T192008
CREATED:20250325T162054Z
LAST-MODIFIED:20250325T162054Z
UID:2808-1743177600-1743186600@summitclassicalacademy.org
SUMMARY:Middle School Boys Baseball Game (AWAY)
DESCRIPTION:MS 4:00pm & 5:30pm \nFront Range Baptist Academy @ Twin Silo Park
URL:https://summitclassicalacademy.org/event/middle-school-boys-baseball-game-away-2/
LOCATION:Twin Silo Park\, 5552-5564 Ziegler Rd\, Fort Collins\, CO\, 80528\, United States
END:VEVENT
BEGIN:VEVENT
DTSTART;TZID=America/Denver:20250401T160000
DTEND;TZID=America/Denver:20250401T170000
DTSTAMP:20260421T192008
CREATED:20250325T164238Z
LAST-MODIFIED:20250401T164740Z
UID:2810-1743523200-1743526800@summitclassicalacademy.org
SUMMARY:(CANCELLED) Middle School Boys Baseball Game (HOME)
DESCRIPTION:MS A against Denver Jewish \nHOME game @ Legacy \n  \nCancelled due to weather\, reschedule TBD
URL:https://summitclassicalacademy.org/event/middle-school-boys-baseball-game-home/
LOCATION:legacy\, 2701 W 136th Ave\, Broomfield\, CO\, 80023\, United States
END:VEVENT
BEGIN:VEVENT
DTSTART;TZID=America/Denver:20250404T160000
DTEND;TZID=America/Denver:20250404T190000
DTSTAMP:20260421T192009
CREATED:20250401T164908Z
LAST-MODIFIED:20250401T165332Z
UID:2812-1743782400-1743793200@summitclassicalacademy.org
SUMMARY:(CANCELLED) Middle School Boys Baseball Game (AWAY)
DESCRIPTION:Estes Park TBD \n(CANCELLED due to weather\, reschedule TBD)
URL:https://summitclassicalacademy.org/event/cancelled-middle-school-boys-baseball-game-away/
END:VEVENT
BEGIN:VEVENT
DTSTART;TZID=America/Denver:20250408T160000
DTEND;TZID=America/Denver:20250408T183000
DTSTAMP:20260421T192009
CREATED:20250401T165245Z
LAST-MODIFIED:20250401T165245Z
UID:2813-1744128000-1744137000@summitclassicalacademy.org
SUMMARY:Middle School Boys Baseball Game (HOME)
DESCRIPTION:MS B & A against Mile High Academy at Legacy High School \n4:00pm & 5:30pm
URL:https://summitclassicalacademy.org/event/middle-school-boys-baseball-game-home-2/
LOCATION:legacy\, 2701 W 136th Ave\, Broomfield\, CO\, 80023\, United States
END:VEVENT
BEGIN:VEVENT
DTSTART;TZID=America/Denver:20250411T080000
DTEND;TZID=America/Denver:20250411T160000
DTSTAMP:20260421T192009
CREATED:20240924T163159Z
LAST-MODIFIED:20240924T163159Z
UID:2191-1744358400-1744387200@summitclassicalacademy.org
SUMMARY:Early Release Day/Staff Development
DESCRIPTION:All school early release day at 12:00pm \nStaff development
URL:https://summitclassicalacademy.org/event/early-release-day-staff-development-5/
END:VEVENT
BEGIN:VEVENT
DTSTART;TZID=America/Denver:20250411T180000
DTEND;TZID=America/Denver:20250411T190000
DTSTAMP:20260421T192009
CREATED:20250401T174449Z
LAST-MODIFIED:20250401T174449Z
UID:2814-1744394400-1744398000@summitclassicalacademy.org
SUMMARY:Middle School Boys Baseball Game (HOME)
DESCRIPTION:MS 6:00pm against Front Range Baptist at Carbon Valley
URL:https://summitclassicalacademy.org/event/middle-school-boys-baseball-game-home-3/
END:VEVENT
BEGIN:VEVENT
DTSTART;TZID=America/Denver:20250414T080000
DTEND;TZID=America/Denver:20250414T160000
DTSTAMP:20260421T192009
CREATED:20240924T163223Z
LAST-MODIFIED:20240924T163223Z
UID:2192-1744617600-1744646400@summitclassicalacademy.org
SUMMARY:Teacher Inservice/ No Students
DESCRIPTION:
URL:https://summitclassicalacademy.org/event/teacher-inservice-no-students-9/
END:VEVENT
BEGIN:VEVENT
DTSTART;TZID=America/Denver:20250417T160000
DTEND;TZID=America/Denver:20250417T183000
DTSTAMP:20260421T192009
CREATED:20250401T174555Z
LAST-MODIFIED:20250401T174555Z
UID:2815-1744905600-1744914600@summitclassicalacademy.org
SUMMARY:Middle School Boys Baseball Game (AWAY)
DESCRIPTION:MS B & A 4:00pm & 5:30pm against Mile High Academy at Mile High
URL:https://summitclassicalacademy.org/event/middle-school-boys-baseball-game-away-3/
LOCATION:Mile High Academy\, 1733 Dad Clark Dr.\, Highlands Ranch\, CO\, 80126\, United States
END:VEVENT
BEGIN:VEVENT
DTSTART;TZID=America/Denver:20250418T080000
DTEND;TZID=America/Denver:20250418T160000
DTSTAMP:20260421T192009
CREATED:20240924T163306Z
LAST-MODIFIED:20240924T163306Z
UID:2193-1744963200-1744992000@summitclassicalacademy.org
SUMMARY:Good Friday-Easter Break/No School
DESCRIPTION:
URL:https://summitclassicalacademy.org/event/good-friday-easter-break-no-school/
END:VEVENT
BEGIN:VEVENT
DTSTART;TZID=America/Denver:20250421T080000
DTEND;TZID=America/Denver:20250421T160000
DTSTAMP:20260421T192009
CREATED:20240924T163322Z
LAST-MODIFIED:20240924T163322Z
UID:2194-1745222400-1745251200@summitclassicalacademy.org
SUMMARY:Good Friday-Easter Break/No School
DESCRIPTION:
URL:https://summitclassicalacademy.org/event/good-friday-easter-break-no-school-2/
END:VEVENT
BEGIN:VEVENT
DTSTART;VALUE=DATE:20250425
DTEND;VALUE=DATE:20250426
DTSTAMP:20260421T192009
CREATED:20250401T180619Z
LAST-MODIFIED:20250401T180627Z
UID:2819-1745539200-1745625599@summitclassicalacademy.org
SUMMARY:The Old Mine Restaurant Fundraiser
DESCRIPTION:
URL:https://summitclassicalacademy.org/event/the-old-mine-restaurant-fundraiser/
LOCATION:The Old Mine Restaurant\, 500 Briggs St\, Erie\, Co\, 80516\, United States
END:VEVENT
BEGIN:VEVENT
DTSTART;TZID=America/Denver:20250425T170000
DTEND;TZID=America/Denver:20250425T200000
DTSTAMP:20260421T192009
CREATED:20240924T163409Z
LAST-MODIFIED:20240924T163409Z
UID:2195-1745600400-1745611200@summitclassicalacademy.org
SUMMARY:Spring Concert & Art Show
DESCRIPTION:Time TBD
URL:https://summitclassicalacademy.org/event/spring-concert-art-show/
END:VEVENT
BEGIN:VEVENT
DTSTART;TZID=America/Denver:20250429T160000
DTEND;TZID=America/Denver:20250429T183000
DTSTAMP:20260421T192009
CREATED:20250401T174855Z
LAST-MODIFIED:20250429T162558Z
UID:2816-1745942400-1745951400@summitclassicalacademy.org
SUMMARY:Middle School Boys Baseball Game (AWAY)
DESCRIPTION:MS B & A 4:00pm and 5:30pm against Mile High Academy
URL:https://summitclassicalacademy.org/event/middle-school-boys-baseball-game-home-4/
LOCATION:Mile High Academy\, 1733 Dad Clark Dr.\, Highlands Ranch\, CO\, 80126\, United States
END:VEVENT
BEGIN:VEVENT
DTSTART;TZID=America/Denver:20250501T081500
DTEND;TZID=America/Denver:20250501T090000
DTSTAMP:20260421T192009
CREATED:20250429T163011Z
LAST-MODIFIED:20250429T164232Z
UID:2928-1746087300-1746090000@summitclassicalacademy.org
SUMMARY:National Day of Prayer
DESCRIPTION:Join us on Thursday\, May 1st for National Day of Prayer. \nWe will hold morning assembly outside at 8:15am so that we may all gather in prayer together. \nFriends and family are welcome!
URL:https://summitclassicalacademy.org/event/national-day-of-prayer/
END:VEVENT
BEGIN:VEVENT
DTSTART;TZID=America/Denver:20250502T160000
DTEND;TZID=America/Denver:20250502T190000
DTSTAMP:20260421T192009
CREATED:20250501T204736Z
LAST-MODIFIED:20250501T204736Z
UID:2939-1746201600-1746212400@summitclassicalacademy.org
SUMMARY:Middle School Boys Baseball Game (AWAY)
DESCRIPTION:380 Community Drive\, Estes Park\, CO 80517 \nField #3 \nArrive at field at 3:00pm \nGame at 4:00pm \n1:00pm Dismissal \n 
URL:https://summitclassicalacademy.org/event/middle-school-boys-baseball-game-away-6/
LOCATION:Estes Park\, 380 Community Drive\, Estes Park\, CO\, 80517\, United States
END:VEVENT
BEGIN:VEVENT
DTSTART;TZID=America/Denver:20250503T180000
DTEND;TZID=America/Denver:20250503T210000
DTSTAMP:20260421T192009
CREATED:20250401T202611Z
LAST-MODIFIED:20250405T182921Z
UID:2820-1746295200-1746306000@summitclassicalacademy.org
SUMMARY:Spring Fundraiser - Sailing with Summit - Destination: Port Able
DESCRIPTION:Join us for an unforgettable evening as we set sail on a mission-filled journey at our nautical-themed fundraiser\, Sailing with Summit – Destination: Port Able! God is doing great things through Summit\, and we are growing in faith\, impact\, and vision. This event will help propel us into the next chapter of what He’s calling us to do for Summit Classical Academy. \nCome dressed in your best boating wear—think yacht rock vibes\, life preservers\, sailor stripes\, and all things maritime! Enjoy a night filled with fellowship\, dinner\, drinks\, a lively auction\, and a celebration of how far we’ve come—and where we’re headed. \nLet’s raise the anchor and sail toward God’s purpose\, together! \nPlease RSVP! \nSummit Classical Academy
URL:https://summitclassicalacademy.org/event/sailing-with-summit-fundraiser/
LOCATION:Westin\, 10600 Westminster Boulevard\, Westminster\, Colorado\, 80020
ATTACH;FMTTYPE=image/png:https://summitclassicalacademy.org/wp-content/uploads/2025/04/Sailing-with-Summit-1.png
ORGANIZER;CN="Summit Classical Academy":MAILTO:Info@SummitClassicalAcademy.org
END:VEVENT
BEGIN:VEVENT
DTSTART;TZID=America/Denver:20250505T160000
DTEND;TZID=America/Denver:20250505T170000
DTSTAMP:20260421T192009
CREATED:20250401T175002Z
LAST-MODIFIED:20250401T175002Z
UID:2817-1746460800-1746464400@summitclassicalacademy.org
SUMMARY:Middle School Boys Baseball Game (AWAY)
DESCRIPTION:MS 4:15pm against Denver Jewish at Denver Jewish
URL:https://summitclassicalacademy.org/event/middle-school-boys-baseball-game-away-4/
END:VEVENT
BEGIN:VEVENT
DTSTART;TZID=America/Denver:20250509T080000
DTEND;TZID=America/Denver:20250509T160000
DTSTAMP:20260421T192009
CREATED:20240924T163456Z
LAST-MODIFIED:20250429T164317Z
UID:2196-1746777600-1746806400@summitclassicalacademy.org
SUMMARY:Early Release Day/Staff Development
DESCRIPTION:All school early release day at 12:00pm \nReading Rally! \nStaff development
URL:https://summitclassicalacademy.org/event/early-release-day-staff-development-6/
END:VEVENT
BEGIN:VEVENT
DTSTART;TZID=America/Denver:20250509T160000
DTEND;TZID=America/Denver:20250509T190000
DTSTAMP:20260421T192009
CREATED:20250401T175533Z
LAST-MODIFIED:20250501T205456Z
UID:2818-1746806400-1746817200@summitclassicalacademy.org
SUMMARY:Middle School Boys Baseball Game (HOME)
DESCRIPTION:4:00pm and 5:30pm MS A & B \n400 6th Street\, Frederick\, CO 80530 \nversus Estes Park
URL:https://summitclassicalacademy.org/event/middle-school-boys-baseball-game-away-5/
END:VEVENT
END:VCALENDAR