BEGIN:VCALENDAR
VERSION:2.0
PRODID:-//Summit Classical Academy - ECPv6.15.20//NONSGML v1.0//EN
CALSCALE:GREGORIAN
METHOD:PUBLISH
X-WR-CALNAME:Summit Classical Academy
X-ORIGINAL-URL:https://summitclassicalacademy.org
X-WR-CALDESC:Events for Summit Classical Academy
REFRESH-INTERVAL;VALUE=DURATION:PT1H
X-Robots-Tag:noindex
X-PUBLISHED-TTL:PT1H
BEGIN:VTIMEZONE
TZID:America/Denver
BEGIN:DAYLIGHT
TZOFFSETFROM:-0700
TZOFFSETTO:-0600
TZNAME:MDT
DTSTART:20220313T090000
END:DAYLIGHT
BEGIN:STANDARD
TZOFFSETFROM:-0600
TZOFFSETTO:-0700
TZNAME:MST
DTSTART:20221106T080000
END:STANDARD
BEGIN:DAYLIGHT
TZOFFSETFROM:-0700
TZOFFSETTO:-0600
TZNAME:MDT
DTSTART:20230312T090000
END:DAYLIGHT
BEGIN:STANDARD
TZOFFSETFROM:-0600
TZOFFSETTO:-0700
TZNAME:MST
DTSTART:20231105T080000
END:STANDARD
BEGIN:DAYLIGHT
TZOFFSETFROM:-0700
TZOFFSETTO:-0600
TZNAME:MDT
DTSTART:20240310T090000
END:DAYLIGHT
BEGIN:STANDARD
TZOFFSETFROM:-0600
TZOFFSETTO:-0700
TZNAME:MST
DTSTART:20241103T080000
END:STANDARD
BEGIN:DAYLIGHT
TZOFFSETFROM:-0700
TZOFFSETTO:-0600
TZNAME:MDT
DTSTART:20250309T090000
END:DAYLIGHT
BEGIN:STANDARD
TZOFFSETFROM:-0600
TZOFFSETTO:-0700
TZNAME:MST
DTSTART:20251102T080000
END:STANDARD
END:VTIMEZONE
BEGIN:VEVENT
DTSTART;TZID=America/Denver:20240819T090000
DTEND;TZID=America/Denver:20240819T110000
DTSTAMP:20260419T144335
CREATED:20240813T160302Z
LAST-MODIFIED:20240813T160302Z
UID:2063-1724058000-1724065200@summitclassicalacademy.org
SUMMARY:Open House 9:00am-11:00am
DESCRIPTION:Open House will be held from 9:00-11:00 am. We will have an open house where students see their friends and meet their teacher(s).
URL:https://summitclassicalacademy.org/event/open-house-900am-1100am/
LOCATION:Summit Classical Academy\, 3031 West 144th Avenue\, Broomfield\, CO\, 80023\, United States
ORGANIZER;CN="Summit Classical Academy":MAILTO:Info@SummitClassicalAcademy.org
END:VEVENT
BEGIN:VEVENT
DTSTART;VALUE=DATE:20240523
DTEND;VALUE=DATE:20240525
DTSTAMP:20260419T144335
CREATED:20230821T230109Z
LAST-MODIFIED:20230821T230109Z
UID:1648-1716422400-1716595199@summitclassicalacademy.org
SUMMARY:Teacher Inservice
DESCRIPTION:
URL:https://summitclassicalacademy.org/event/teacher-inservice-4/
END:VEVENT
BEGIN:VEVENT
DTSTART;TZID=America/Denver:20240522T081500
DTEND;TZID=America/Denver:20240522T120000
DTSTAMP:20260419T144335
CREATED:20230821T225914Z
LAST-MODIFIED:20230821T230000Z
UID:1646-1716365700-1716379200@summitclassicalacademy.org
SUMMARY:End of Quarter | Early Release
DESCRIPTION:
URL:https://summitclassicalacademy.org/event/end-of-quarter-early-release-7/
END:VEVENT
BEGIN:VEVENT
DTSTART;VALUE=DATE:20240520
DTEND;VALUE=DATE:20240521
DTSTAMP:20260419T144335
CREATED:20230821T225143Z
LAST-MODIFIED:20230821T225755Z
UID:1645-1716163200-1716249599@summitclassicalacademy.org
SUMMARY:Field Day
DESCRIPTION:
URL:https://summitclassicalacademy.org/event/field-day-3/
END:VEVENT
BEGIN:VEVENT
DTSTART;TZID=America/Denver:20240511T183000
DTEND;TZID=America/Denver:20240511T210000
DTSTAMP:20260419T144335
CREATED:20230821T225037Z
LAST-MODIFIED:20240422T181653Z
UID:1644-1715452200-1715461200@summitclassicalacademy.org
SUMMARY:Rising to Our Summit Spring Fundraiser
DESCRIPTION:Welcome to the Annual Spring Fundraiser: Rising To Our Summit! Join us at the Omni Interlocken Hotel for an evening brimming with inspiration\, connection\, and giving back. This event offers you the chance to make a meaningful impact while relishing in a delightful evening Rising To Our Summit. Your mode of arrival? The choice is yours. Whether you prefer to hike\, bike\, ski\, or hang glide\, the path is yours to choose. Simply ensure you show up\, see what God is doing at SCA\, and lend your support. Don’t let this opportunity pass you by to be part of something truly remarkable. We’ll see you there! \n  \nPurchase Tickets Here
URL:https://summitclassicalacademy.org/event/spring-fundraiser-3/
LOCATION:Omni Interlocken Hotel\, 500 Interlocken Blvd\, Broomfield\, Colorado\, 80021
ORGANIZER;CN="Summit Classical Academy":MAILTO:Info@SummitClassicalAcademy.org
END:VEVENT
BEGIN:VEVENT
DTSTART;TZID=America/Denver:20240510T081500
DTEND;TZID=America/Denver:20240510T120000
DTSTAMP:20260419T144335
CREATED:20230821T224828Z
LAST-MODIFIED:20230821T224828Z
UID:1643-1715328900-1715342400@summitclassicalacademy.org
SUMMARY:Staff Development | Early Release
DESCRIPTION:
URL:https://summitclassicalacademy.org/event/staff-development-early-release-16/
END:VEVENT
BEGIN:VEVENT
DTSTART;VALUE=DATE:20240422
DTEND;VALUE=DATE:20240427
DTSTAMP:20260419T144335
CREATED:20230821T224730Z
LAST-MODIFIED:20230821T224730Z
UID:1642-1713744000-1714175999@summitclassicalacademy.org
SUMMARY:7th & 8th Grade Washington D.C. Trip
DESCRIPTION:
URL:https://summitclassicalacademy.org/event/7th-8th-grade-washington-d-c-trip/
END:VEVENT
BEGIN:VEVENT
DTSTART;TZID=America/Denver:20240419T180000
DTEND;TZID=America/Denver:20240419T200000
DTSTAMP:20260419T144335
CREATED:20230821T224631Z
LAST-MODIFIED:20230821T224631Z
UID:1641-1713549600-1713556800@summitclassicalacademy.org
SUMMARY:Spring Concernt & Art Show
DESCRIPTION:
URL:https://summitclassicalacademy.org/event/spring-concernt-art-show/
END:VEVENT
BEGIN:VEVENT
DTSTART;VALUE=DATE:20240415
DTEND;VALUE=DATE:20240416
DTSTAMP:20260419T144335
CREATED:20230821T224504Z
LAST-MODIFIED:20230821T224504Z
UID:1640-1713139200-1713225599@summitclassicalacademy.org
SUMMARY:Teacher Inservice | No School
DESCRIPTION:
URL:https://summitclassicalacademy.org/event/teacher-inservice-no-school-4/
END:VEVENT
BEGIN:VEVENT
DTSTART;TZID=America/Denver:20240412T083000
DTEND;TZID=America/Denver:20240412T093000
DTSTAMP:20260419T144335
CREATED:20230821T223654Z
LAST-MODIFIED:20240410T194002Z
UID:1634-1712910600-1712914200@summitclassicalacademy.org
SUMMARY:Mother's Day Celebration
DESCRIPTION:
URL:https://summitclassicalacademy.org/event/mothers-day-celebration-4/
END:VEVENT
BEGIN:VEVENT
DTSTART;TZID=America/Denver:20240412T081500
DTEND;TZID=America/Denver:20240412T120000
DTSTAMP:20260419T144335
CREATED:20230821T224235Z
LAST-MODIFIED:20230821T224335Z
UID:1639-1712909700-1712923200@summitclassicalacademy.org
SUMMARY:Staff Development | Early Release
DESCRIPTION:
URL:https://summitclassicalacademy.org/event/staff-development-early-release-15/
END:VEVENT
BEGIN:VEVENT
DTSTART;VALUE=DATE:20240329
DTEND;VALUE=DATE:20240330
DTSTAMP:20260419T144335
CREATED:20230821T224055Z
LAST-MODIFIED:20230821T224055Z
UID:1638-1711670400-1711756799@summitclassicalacademy.org
SUMMARY:Good Friday
DESCRIPTION:
URL:https://summitclassicalacademy.org/event/good-friday/
END:VEVENT
BEGIN:VEVENT
DTSTART;VALUE=DATE:20240318
DTEND;VALUE=DATE:20240323
DTSTAMP:20260419T144335
CREATED:20230821T224021Z
LAST-MODIFIED:20230821T224021Z
UID:1637-1710720000-1711151999@summitclassicalacademy.org
SUMMARY:Spring Break
DESCRIPTION:
URL:https://summitclassicalacademy.org/event/spring-break-3/
END:VEVENT
BEGIN:VEVENT
DTSTART;VALUE=DATE:20240315
DTEND;VALUE=DATE:20240316
DTSTAMP:20260419T144335
CREATED:20230821T223928Z
LAST-MODIFIED:20230821T223928Z
UID:1636-1710460800-1710547199@summitclassicalacademy.org
SUMMARY:Teacher Inservice | No School
DESCRIPTION:
URL:https://summitclassicalacademy.org/event/teacher-inservice-no-school-3/
END:VEVENT
BEGIN:VEVENT
DTSTART;VALUE=DATE:20240314
DTEND;VALUE=DATE:20240315
DTSTAMP:20260419T144335
CREATED:20230821T223840Z
LAST-MODIFIED:20230821T223840Z
UID:1635-1710374400-1710460799@summitclassicalacademy.org
SUMMARY:End of Quarter | Full Day of School
DESCRIPTION:
URL:https://summitclassicalacademy.org/event/end-of-quarter-full-day-of-school-3/
END:VEVENT
BEGIN:VEVENT
DTSTART;VALUE=DATE:20240311
DTEND;VALUE=DATE:20240315
DTSTAMP:20260419T144335
CREATED:20230821T223603Z
LAST-MODIFIED:20230821T223603Z
UID:1633-1710115200-1710460799@summitclassicalacademy.org
SUMMARY:Standardized Testing
DESCRIPTION:
URL:https://summitclassicalacademy.org/event/standardized-testing-3/
END:VEVENT
BEGIN:VEVENT
DTSTART;TZID=America/Denver:20240223T110000
DTEND;TZID=America/Denver:20240223T120000
DTSTAMP:20260419T144335
CREATED:20230821T223528Z
LAST-MODIFIED:20230821T223528Z
UID:1632-1708686000-1708689600@summitclassicalacademy.org
SUMMARY:Warriors In Blue Celebration
DESCRIPTION:
URL:https://summitclassicalacademy.org/event/warriors-in-blue-celebration-3/
END:VEVENT
BEGIN:VEVENT
DTSTART;VALUE=DATE:20240219
DTEND;VALUE=DATE:20240220
DTSTAMP:20260419T144335
CREATED:20230821T223441Z
LAST-MODIFIED:20230821T223441Z
UID:1631-1708300800-1708387199@summitclassicalacademy.org
SUMMARY:Presidents' Day | No School
DESCRIPTION:
URL:https://summitclassicalacademy.org/event/presidents-day-no-school-3/
END:VEVENT
BEGIN:VEVENT
DTSTART;VALUE=DATE:20240216
DTEND;VALUE=DATE:20240217
DTSTAMP:20260419T144335
CREATED:20230821T223359Z
LAST-MODIFIED:20230821T223359Z
UID:1630-1708041600-1708127999@summitclassicalacademy.org
SUMMARY:Parent/Teacher Conferences | No School
DESCRIPTION:
URL:https://summitclassicalacademy.org/event/parent-teacher-conferences-no-school-5/
END:VEVENT
BEGIN:VEVENT
DTSTART;TZID=America/Denver:20240209T081500
DTEND;TZID=America/Denver:20240209T120000
DTSTAMP:20260419T144335
CREATED:20230821T223247Z
LAST-MODIFIED:20230821T223247Z
UID:1629-1707466500-1707480000@summitclassicalacademy.org
SUMMARY:Staff Development | Early Release
DESCRIPTION:
URL:https://summitclassicalacademy.org/event/staff-development-early-release-14/
END:VEVENT
BEGIN:VEVENT
DTSTART;TZID=America/Denver:20240126T090000
DTEND;TZID=America/Denver:20240126T103000
DTSTAMP:20260419T144335
CREATED:20230821T223152Z
LAST-MODIFIED:20230821T223152Z
UID:1628-1706259600-1706265000@summitclassicalacademy.org
SUMMARY:Dad's Day Celebration
DESCRIPTION:
URL:https://summitclassicalacademy.org/event/dads-day-celebration-3/
END:VEVENT
BEGIN:VEVENT
DTSTART;TZID=America/Denver:20240119T180000
DTEND;TZID=America/Denver:20240119T210000
DTSTAMP:20260419T144335
CREATED:20231127T213135Z
LAST-MODIFIED:20231127T213135Z
UID:1788-1705687200-1705698000@summitclassicalacademy.org
SUMMARY:SCA Family Talent Show
DESCRIPTION:
URL:https://summitclassicalacademy.org/event/sca-family-talent-show/
END:VEVENT
BEGIN:VEVENT
DTSTART;VALUE=DATE:20240115
DTEND;VALUE=DATE:20240116
DTSTAMP:20260419T144335
CREATED:20230821T223047Z
LAST-MODIFIED:20230821T223047Z
UID:1627-1705276800-1705363199@summitclassicalacademy.org
SUMMARY:MLK Day | No School
DESCRIPTION:
URL:https://summitclassicalacademy.org/event/mlk-day-no-school-3/
END:VEVENT
BEGIN:VEVENT
DTSTART;TZID=America/Denver:20240109T081500
DTEND;TZID=America/Denver:20240109T153000
DTSTAMP:20260419T144335
CREATED:20230821T223016Z
LAST-MODIFIED:20230821T223016Z
UID:1626-1704788100-1704814200@summitclassicalacademy.org
SUMMARY:Students Return from Christmas Break
DESCRIPTION:
URL:https://summitclassicalacademy.org/event/students-return-from-christmas-break/
END:VEVENT
BEGIN:VEVENT
DTSTART;VALUE=DATE:20240108
DTEND;VALUE=DATE:20240109
DTSTAMP:20260419T144335
CREATED:20230821T222927Z
LAST-MODIFIED:20230821T222927Z
UID:1625-1704672000-1704758399@summitclassicalacademy.org
SUMMARY:Teacher Inservice | No School
DESCRIPTION:
URL:https://summitclassicalacademy.org/event/teacher-inservice-no-school-2/
END:VEVENT
BEGIN:VEVENT
DTSTART;VALUE=DATE:20231225
DTEND;VALUE=DATE:20240106
DTSTAMP:20260419T144335
CREATED:20230821T222644Z
LAST-MODIFIED:20230821T222822Z
UID:1623-1703462400-1704499199@summitclassicalacademy.org
SUMMARY:Christmas Break | No School
DESCRIPTION:
URL:https://summitclassicalacademy.org/event/christmas-break-no-school/
END:VEVENT
BEGIN:VEVENT
DTSTART;TZID=America/Denver:20231222T081500
DTEND;TZID=America/Denver:20231222T120000
DTSTAMP:20260419T144335
CREATED:20230821T222236Z
LAST-MODIFIED:20230821T222539Z
UID:1621-1703232900-1703246400@summitclassicalacademy.org
SUMMARY:End of Quarter | Early Release | Staff Development  | Staff Christmas Party
DESCRIPTION:
URL:https://summitclassicalacademy.org/event/end-of-quarter-early-release-6/
END:VEVENT
BEGIN:VEVENT
DTSTART;TZID=America/Denver:20231218T180000
DTEND;TZID=America/Denver:20231218T203000
DTSTAMP:20260419T144335
CREATED:20231127T212431Z
LAST-MODIFIED:20231127T212431Z
UID:1787-1702922400-1702931400@summitclassicalacademy.org
SUMMARY:Art Show
DESCRIPTION:
URL:https://summitclassicalacademy.org/event/art-show/
END:VEVENT
BEGIN:VEVENT
DTSTART;TZID=America/Denver:20231214T180000
DTEND;TZID=America/Denver:20231214T200000
DTSTAMP:20260419T144335
CREATED:20230821T222127Z
LAST-MODIFIED:20231127T222845Z
UID:1620-1702576800-1702584000@summitclassicalacademy.org
SUMMARY:Christmas Concert at BRAVE Church
DESCRIPTION:
URL:https://summitclassicalacademy.org/event/christmas-concert/
LOCATION:BRAVE Chuch\, 11500 Sheridan Blvd\, Westminster\, 80020
END:VEVENT
BEGIN:VEVENT
DTSTART;VALUE=DATE:20231120
DTEND;VALUE=DATE:20231125
DTSTAMP:20260419T144335
CREATED:20230821T221823Z
LAST-MODIFIED:20230821T221848Z
UID:1619-1700438400-1700870399@summitclassicalacademy.org
SUMMARY:Thanksgiving Break | No School
DESCRIPTION:
URL:https://summitclassicalacademy.org/event/thanksgiving-break-no-school/
END:VEVENT
END:VCALENDAR