BEGIN:VCALENDAR
VERSION:2.0
PRODID:-//Summit Classical Academy - ECPv6.15.20//NONSGML v1.0//EN
CALSCALE:GREGORIAN
METHOD:PUBLISH
X-WR-CALNAME:Summit Classical Academy
X-ORIGINAL-URL:https://summitclassicalacademy.org
X-WR-CALDESC:Events for Summit Classical Academy
REFRESH-INTERVAL;VALUE=DURATION:PT1H
X-Robots-Tag:noindex
X-PUBLISHED-TTL:PT1H
BEGIN:VTIMEZONE
TZID:America/Denver
BEGIN:DAYLIGHT
TZOFFSETFROM:-0700
TZOFFSETTO:-0600
TZNAME:MDT
DTSTART:20240310T090000
END:DAYLIGHT
BEGIN:STANDARD
TZOFFSETFROM:-0600
TZOFFSETTO:-0700
TZNAME:MST
DTSTART:20241103T080000
END:STANDARD
BEGIN:DAYLIGHT
TZOFFSETFROM:-0700
TZOFFSETTO:-0600
TZNAME:MDT
DTSTART:20250309T090000
END:DAYLIGHT
BEGIN:STANDARD
TZOFFSETFROM:-0600
TZOFFSETTO:-0700
TZNAME:MST
DTSTART:20251102T080000
END:STANDARD
BEGIN:DAYLIGHT
TZOFFSETFROM:-0700
TZOFFSETTO:-0600
TZNAME:MDT
DTSTART:20260308T090000
END:DAYLIGHT
BEGIN:STANDARD
TZOFFSETFROM:-0600
TZOFFSETTO:-0700
TZNAME:MST
DTSTART:20261101T080000
END:STANDARD
BEGIN:DAYLIGHT
TZOFFSETFROM:-0700
TZOFFSETTO:-0600
TZNAME:MDT
DTSTART:20270314T090000
END:DAYLIGHT
BEGIN:STANDARD
TZOFFSETFROM:-0600
TZOFFSETTO:-0700
TZNAME:MST
DTSTART:20271107T080000
END:STANDARD
END:VTIMEZONE
BEGIN:VEVENT
DTSTART;TZID=America/Denver:20260105T080000
DTEND;TZID=America/Denver:20260105T160000
DTSTAMP:20260419T085858
CREATED:20250630T212322Z
LAST-MODIFIED:20250630T221652Z
UID:3005-1767600000-1767628800@summitclassicalacademy.org
SUMMARY:Teacher Inservice
DESCRIPTION:No school for students
URL:https://summitclassicalacademy.org/event/teacher-inservice-9/
END:VEVENT
BEGIN:VEVENT
DTSTART;VALUE=DATE:20251222
DTEND;VALUE=DATE:20260103
DTSTAMP:20260419T085858
CREATED:20250630T212120Z
LAST-MODIFIED:20250630T221612Z
UID:3004-1766361600-1767398399@summitclassicalacademy.org
SUMMARY:Christmas Break
DESCRIPTION:
URL:https://summitclassicalacademy.org/event/christmas-break-5/
END:VEVENT
BEGIN:VEVENT
DTSTART;TZID=America/Denver:20251219T180000
DTEND;TZID=America/Denver:20251219T200000
DTSTAMP:20260419T085858
CREATED:20250630T212120Z
LAST-MODIFIED:20251218T235428Z
UID:3001-1766167200-1766174400@summitclassicalacademy.org
SUMMARY:Christmas Concert & Art Show*
DESCRIPTION:
URL:https://summitclassicalacademy.org/event/christmas-concert-and-art-show-3/
END:VEVENT
BEGIN:VEVENT
DTSTART;TZID=America/Denver:20251219T080000
DTEND;TZID=America/Denver:20251219T120000
DTSTAMP:20260419T085858
CREATED:20250630T212120Z
LAST-MODIFIED:20250630T221442Z
UID:3003-1766131200-1766145600@summitclassicalacademy.org
SUMMARY:Early Release/ Staff Development
DESCRIPTION:All school early release at noon \nStaff development
URL:https://summitclassicalacademy.org/event/staff-development/
END:VEVENT
BEGIN:VEVENT
DTSTART;VALUE=DATE:20251219
DTEND;VALUE=DATE:20251220
DTSTAMP:20260419T085858
CREATED:20250630T212120Z
LAST-MODIFIED:20250630T221550Z
UID:3002-1766102400-1766188799@summitclassicalacademy.org
SUMMARY:End of Quarter 2
DESCRIPTION:
URL:https://summitclassicalacademy.org/event/end-of-quarter-early-release-8/
END:VEVENT
BEGIN:VEVENT
DTSTART;VALUE=DATE:20251124
DTEND;VALUE=DATE:20251129
DTSTAMP:20260419T085858
CREATED:20250630T212119Z
LAST-MODIFIED:20250630T221337Z
UID:3000-1763942400-1764374399@summitclassicalacademy.org
SUMMARY:Thanksgiving Break
DESCRIPTION:
URL:https://summitclassicalacademy.org/event/thanksgiving-break-4/
END:VEVENT
BEGIN:VEVENT
DTSTART;TZID=America/Denver:20251121T080000
DTEND;TZID=America/Denver:20251121T120000
DTSTAMP:20260419T085858
CREATED:20250630T212020Z
LAST-MODIFIED:20250630T221322Z
UID:2999-1763712000-1763726400@summitclassicalacademy.org
SUMMARY:Early Release/ Staff Development
DESCRIPTION:All school early release at noon. \nStaff development 12:15pm-4:00pm
URL:https://summitclassicalacademy.org/event/staff-development-early-release-19/
END:VEVENT
BEGIN:VEVENT
DTSTART;TZID=America/Denver:20251120T180000
DTEND;TZID=America/Denver:20251120T190000
DTSTAMP:20260419T085858
CREATED:20250630T212020Z
LAST-MODIFIED:20250630T221053Z
UID:2998-1763661600-1763665200@summitclassicalacademy.org
SUMMARY:Board Meeting
DESCRIPTION:
URL:https://summitclassicalacademy.org/event/board-meeting-9/
END:VEVENT
BEGIN:VEVENT
DTSTART;TZID=America/Denver:20251107T090000
DTEND;TZID=America/Denver:20251107T103000
DTSTAMP:20260419T085858
CREATED:20250630T212020Z
LAST-MODIFIED:20250630T221005Z
UID:2997-1762506000-1762511400@summitclassicalacademy.org
SUMMARY:Veterans Day Celebration
DESCRIPTION:
URL:https://summitclassicalacademy.org/event/veterans-day-celebration-2/
END:VEVENT
BEGIN:VEVENT
DTSTART;TZID=America/Denver:20251020T080000
DTEND;TZID=America/Denver:20251020T160000
DTSTAMP:20260419T085858
CREATED:20250630T212020Z
LAST-MODIFIED:20250630T220931Z
UID:2996-1760947200-1760976000@summitclassicalacademy.org
SUMMARY:Teacher Inservice
DESCRIPTION:No school for students
URL:https://summitclassicalacademy.org/event/teacher-inservice-8/
END:VEVENT
BEGIN:VEVENT
DTSTART;TZID=America/Denver:20251018T170000
DTEND;TZID=America/Denver:20251018T210000
DTSTAMP:20260419T085858
CREATED:20250630T212019Z
LAST-MODIFIED:20250630T220843Z
UID:2995-1760806800-1760821200@summitclassicalacademy.org
SUMMARY:Fall Family Fundraiser
DESCRIPTION:
URL:https://summitclassicalacademy.org/event/fall-family-fundraiser/
END:VEVENT
BEGIN:VEVENT
DTSTART;VALUE=DATE:20251017
DTEND;VALUE=DATE:20251018
DTSTAMP:20260419T085858
CREATED:20250630T211838Z
LAST-MODIFIED:20250630T221555Z
UID:2993-1760659200-1760745599@summitclassicalacademy.org
SUMMARY:End of Quarter 1
DESCRIPTION:
URL:https://summitclassicalacademy.org/event/end-of-quarter/
END:VEVENT
BEGIN:VEVENT
DTSTART;TZID=America/Denver:20251017T000000
DTEND;TZID=America/Denver:20251017T000000
DTSTAMP:20260419T085858
CREATED:20250630T211839Z
LAST-MODIFIED:20250630T221305Z
UID:2994-1760659200-1760659200@summitclassicalacademy.org
SUMMARY:Early Release/ Staff Development
DESCRIPTION:
URL:https://summitclassicalacademy.org/event/staff-development-early-release-18/
END:VEVENT
BEGIN:VEVENT
DTSTART;TZID=America/Denver:20250926T080000
DTEND;TZID=America/Denver:20250926T160000
DTSTAMP:20260419T085858
CREATED:20250630T211838Z
LAST-MODIFIED:20250630T220740Z
UID:2992-1758873600-1758902400@summitclassicalacademy.org
SUMMARY:P/T Conferences
DESCRIPTION:
URL:https://summitclassicalacademy.org/event/p-t-conferences/
END:VEVENT
BEGIN:VEVENT
DTSTART;TZID=America/Denver:20250919T080000
DTEND;TZID=America/Denver:20250919T160000
DTSTAMP:20260419T085858
CREATED:20250630T211838Z
LAST-MODIFIED:20250630T221312Z
UID:2991-1758268800-1758297600@summitclassicalacademy.org
SUMMARY:Early Release/ Staff Development
DESCRIPTION:All school early release at noon \nStaff development 12:15pm-4:00pm
URL:https://summitclassicalacademy.org/event/staff-development-early-release-17/
END:VEVENT
BEGIN:VEVENT
DTSTART;TZID=America/Denver:20250918T180000
DTEND;TZID=America/Denver:20250918T190000
DTSTAMP:20260419T085858
CREATED:20250630T211838Z
LAST-MODIFIED:20250630T220526Z
UID:2990-1758218400-1758222000@summitclassicalacademy.org
SUMMARY:Board Meeting
DESCRIPTION:
URL:https://summitclassicalacademy.org/event/board-meeting-8/
END:VEVENT
BEGIN:VEVENT
DTSTART;VALUE=DATE:20250917
DTEND;VALUE=DATE:20250920
DTSTAMP:20260419T085858
CREATED:20250630T211738Z
LAST-MODIFIED:20250630T220406Z
UID:2989-1758067200-1758326399@summitclassicalacademy.org
SUMMARY:Outdoor Education
DESCRIPTION:Middle School Outdoor Education Trip to Annunciation Heights
URL:https://summitclassicalacademy.org/event/outdoor-education/
END:VEVENT
BEGIN:VEVENT
DTSTART;VALUE=DATE:20250901
DTEND;VALUE=DATE:20250902
DTSTAMP:20260419T085858
CREATED:20250630T211738Z
LAST-MODIFIED:20250630T220313Z
UID:2988-1756684800-1756771199@summitclassicalacademy.org
SUMMARY:Labor Day- No School
DESCRIPTION:
URL:https://summitclassicalacademy.org/event/labor-day/
END:VEVENT
BEGIN:VEVENT
DTSTART;TZID=America/Denver:20250820T080000
DTEND;TZID=America/Denver:20250820T120000
DTSTAMP:20260419T085858
CREATED:20250630T214509Z
LAST-MODIFIED:20250630T220105Z
UID:1330-1755676800-1755691200@summitclassicalacademy.org
SUMMARY:Beginning of School Celebration
DESCRIPTION:
URL:https://summitclassicalacademy.org/event/beginning-of-school-celebration/
LOCATION:Summit Classical Academy\, 3031 West 144th Avenue\, Broomfield\, CO\, 80023\, United States
END:VEVENT
BEGIN:VEVENT
DTSTART;TZID=America/Denver:20250818T170000
DTEND;TZID=America/Denver:20250818T200000
DTSTAMP:20260419T085858
CREATED:20250630T211737Z
LAST-MODIFIED:20250630T215929Z
UID:2986-1755536400-1755547200@summitclassicalacademy.org
SUMMARY:Parent Orientation (PM)
DESCRIPTION:
URL:https://summitclassicalacademy.org/event/parent-orientation-pm-2/
LOCATION:Summit Classical Academy\, 3031 West 144th Avenue\, Broomfield\, CO\, 80023\, United States
END:VEVENT
BEGIN:VEVENT
DTSTART;TZID=America/Denver:20250818T080000
DTEND;TZID=America/Denver:20250818T120000
DTSTAMP:20260419T085858
CREATED:20250630T211737Z
LAST-MODIFIED:20250630T220153Z
UID:2985-1755504000-1755518400@summitclassicalacademy.org
SUMMARY:Open House (AM)
DESCRIPTION:
URL:https://summitclassicalacademy.org/event/open-house-am-2/
LOCATION:Summit Classical Academy\, 3031 West 144th Avenue\, Broomfield\, CO\, 80023\, United States
END:VEVENT
BEGIN:VEVENT
DTSTART;VALUE=DATE:20250811
DTEND;VALUE=DATE:20250816
DTSTAMP:20260419T085858
CREATED:20250630T211735Z
LAST-MODIFIED:20250630T220236Z
UID:2984-1754870400-1755302399@summitclassicalacademy.org
SUMMARY:Teacher Inservice 
DESCRIPTION:
URL:https://summitclassicalacademy.org/event/teacher-inservice-7/
END:VEVENT
BEGIN:VEVENT
DTSTART;TZID=America/Denver:20250731T170000
DTEND;TZID=America/Denver:20250731T190000
DTSTAMP:20260419T085858
CREATED:20250630T205409Z
LAST-MODIFIED:20250630T205409Z
UID:2977-1753981200-1753988400@summitclassicalacademy.org
SUMMARY:Family Get Together & Outdoor Board Meeting
DESCRIPTION:On Thursday\, July 31 we will meet on the playground/courtyard for a Family Fun Night and Outdoor Board Meeting.   \nWe will begin at 5:00 PM with dinner which will be a potluck as well as grilling hamburgers.   \nAt 6:00 PM the board meeting will begin at the courtyard.   \nStudents may continue to enjoy each other while the parents are meeting.  Students can play Gaga Ball\,  yard games\, and utilize the playground while the SCA Board shares information with the parents. Due to the meeting being outdoors\, we will not have a video call link this time.. If you are unable to attend the meeting\, feel free to email the board with your questions. We look forward to this time of summer connection.
URL:https://summitclassicalacademy.org/event/family-get-together-outdoor-board-meeting/
END:VEVENT
BEGIN:VEVENT
DTSTART;TZID=America/Denver:20250730T130000
DTEND;TZID=America/Denver:20250730T150000
DTSTAMP:20260419T085858
CREATED:20250630T173145Z
LAST-MODIFIED:20250630T173145Z
UID:2971-1753880400-1753887600@summitclassicalacademy.org
SUMMARY:Warrior Workouts with Mr. Dutton
DESCRIPTION:Warrior Wednesdays\, which consists of military based workouts\, from 1:00 PM to 3:00 PM will continue throughout the summer. Students going into 3rd grade and above are welcome to join. Parents are welcome to join the workout as well.  \nPlease wear sunscreen and bring your water bottles! A suggested donation of $10.00 is requested for each session for each person. 
URL:https://summitclassicalacademy.org/event/warrior-workouts-with-mr-dutton-7/
END:VEVENT
BEGIN:VEVENT
DTSTART;TZID=America/Denver:20250723T130000
DTEND;TZID=America/Denver:20250723T150000
DTSTAMP:20260419T085858
CREATED:20250630T173002Z
LAST-MODIFIED:20250630T173002Z
UID:2970-1753275600-1753282800@summitclassicalacademy.org
SUMMARY:Warrior Workouts with Mr. Dutton
DESCRIPTION:Warrior Wednesdays\, which consists of military based workouts\, from 1:00 PM to 3:00 PM will continue throughout the summer. Students going into 3rd grade and above are welcome to join. Parents are welcome to join the workout as well.  \nPlease wear sunscreen and bring your water bottles! A suggested donation of $10.00 is requested for each session for each person. 
URL:https://summitclassicalacademy.org/event/warrior-workouts-with-mr-dutton-6/
END:VEVENT
BEGIN:VEVENT
DTSTART;TZID=America/Denver:20250723T100000
DTEND;TZID=America/Denver:20250723T120000
DTSTAMP:20260419T085858
CREATED:20250630T173258Z
LAST-MODIFIED:20250630T173258Z
UID:2972-1753264800-1753272000@summitclassicalacademy.org
SUMMARY:Summer Art Days with Miss Tabb
DESCRIPTION:Miss Tabb and Mrs Woolsey are excited to continue Summer Art Days in July! \nOpen to anyone 3rd grade and up-parents too! \nWhen: Wednesdays 10:00 AM – 12:00 PM \nWhere: Lobby/Cafeteria at RSLC \nCost: $25.00 first student\, $20.00 second child\, $15.00 for each additional child. \nPlease sign up here by 10:00 AM the Monday before class.  \nSummer Art Days dates: \n\nJuly 2 Cookie Decorating- \n\nRoyal Icing & Floodwork\n\n\nJuly 9 Pottery Painting- 8” Ceramic Plate \n\n(Minimum 8 students needed)\n(will shift to clay project if not enough students sign up)\n\n\nJuly 16 Stained Glass Painting\nJuly 23 Stencil/Airbrushing-\n\nHow to create a stencil and airbrush a design on a tote bag\n\n\n\nIf you have any questions\, please reach out to Miss Tabb.
URL:https://summitclassicalacademy.org/event/summer-art-days-with-miss-tabb-7/
END:VEVENT
BEGIN:VEVENT
DTSTART;TZID=America/Denver:20250716T130000
DTEND;TZID=America/Denver:20250716T150000
DTSTAMP:20260419T085858
CREATED:20250630T172929Z
LAST-MODIFIED:20250630T172929Z
UID:2969-1752670800-1752678000@summitclassicalacademy.org
SUMMARY:Warrior Workouts with Mr. Dutton
DESCRIPTION:Warrior Wednesdays\, which consists of military based workouts\, from 1:00 PM to 3:00 PM will continue throughout the summer. Students going into 3rd grade and above are welcome to join. Parents are welcome to join the workout as well.  \nPlease wear sunscreen and bring your water bottles! A suggested donation of $10.00 is requested for each session for each person. 
URL:https://summitclassicalacademy.org/event/warrior-workouts-with-mr-dutton-5/
END:VEVENT
BEGIN:VEVENT
DTSTART;TZID=America/Denver:20250716T100000
DTEND;TZID=America/Denver:20250716T120000
DTSTAMP:20260419T085858
CREATED:20250528T173058Z
LAST-MODIFIED:20250528T173058Z
UID:2954-1752660000-1752667200@summitclassicalacademy.org
SUMMARY:Summer Art Days with Miss Tabb
DESCRIPTION:
URL:https://summitclassicalacademy.org/event/summer-art-days-with-miss-tabb-5/
END:VEVENT
BEGIN:VEVENT
DTSTART;TZID=America/Denver:20250709T130000
DTEND;TZID=America/Denver:20250709T150000
DTSTAMP:20260419T085858
CREATED:20250630T172844Z
LAST-MODIFIED:20250630T172844Z
UID:2968-1752066000-1752073200@summitclassicalacademy.org
SUMMARY:Warrior Workouts with Mr. Dutton
DESCRIPTION:Warrior Wednesdays\, which consists of military based workouts\, from 1:00 PM to 3:00 PM will continue throughout the summer. Students going into 3rd grade and above are welcome to join. Parents are welcome to join the workout as well.  \nPlease wear sunscreen and bring your water bottles! A suggested donation of $10.00 is requested for each session for each person. 
URL:https://summitclassicalacademy.org/event/warrior-workouts-with-mr-dutton-4/
END:VEVENT
BEGIN:VEVENT
DTSTART;TZID=America/Denver:20250709T100000
DTEND;TZID=America/Denver:20250709T120000
DTSTAMP:20260419T085858
CREATED:20250528T173035Z
LAST-MODIFIED:20250528T173035Z
UID:2953-1752055200-1752062400@summitclassicalacademy.org
SUMMARY:Summer Art Days with Miss Tabb
DESCRIPTION:
URL:https://summitclassicalacademy.org/event/summer-art-days-with-miss-tabb-4/
END:VEVENT
END:VCALENDAR