BEGIN:VCALENDAR
VERSION:2.0
PRODID:-//Summit Classical Academy - ECPv6.15.20//NONSGML v1.0//EN
CALSCALE:GREGORIAN
METHOD:PUBLISH
X-WR-CALNAME:Summit Classical Academy
X-ORIGINAL-URL:https://summitclassicalacademy.org
X-WR-CALDESC:Events for Summit Classical Academy
REFRESH-INTERVAL;VALUE=DURATION:PT1H
X-Robots-Tag:noindex
X-PUBLISHED-TTL:PT1H
BEGIN:VTIMEZONE
TZID:America/Denver
BEGIN:DAYLIGHT
TZOFFSETFROM:-0700
TZOFFSETTO:-0600
TZNAME:MDT
DTSTART:20230312T090000
END:DAYLIGHT
BEGIN:STANDARD
TZOFFSETFROM:-0600
TZOFFSETTO:-0700
TZNAME:MST
DTSTART:20231105T080000
END:STANDARD
BEGIN:DAYLIGHT
TZOFFSETFROM:-0700
TZOFFSETTO:-0600
TZNAME:MDT
DTSTART:20240310T090000
END:DAYLIGHT
BEGIN:STANDARD
TZOFFSETFROM:-0600
TZOFFSETTO:-0700
TZNAME:MST
DTSTART:20241103T080000
END:STANDARD
BEGIN:DAYLIGHT
TZOFFSETFROM:-0700
TZOFFSETTO:-0600
TZNAME:MDT
DTSTART:20250309T090000
END:DAYLIGHT
BEGIN:STANDARD
TZOFFSETFROM:-0600
TZOFFSETTO:-0700
TZNAME:MST
DTSTART:20251102T080000
END:STANDARD
END:VTIMEZONE
BEGIN:VEVENT
DTSTART;TZID=America/Denver:20241023T081500
DTEND;TZID=America/Denver:20241023T153000
DTSTAMP:20260419T105200
CREATED:20241004T161633Z
LAST-MODIFIED:20241004T161633Z
UID:2246-1729671300-1729697400@summitclassicalacademy.org
SUMMARY:Musical Showcase
DESCRIPTION:Musical Showcase Chapel Special \nUpper School begins at 8:15am \nLower School begins at 2:15pm \nEach quarter\, SCA holds a Musical Showcase on campus.  This is a time where any interested SCA students may prepare an instrumental song or a vocal piece\, and audition to share it with the school.  This opportunity allows students to grow in confidence by sharing and presenting music in an encouraging environment for their fellow students\, SCA families and friends.  Musical Showcases will be on Chapel days on the following dates: October 23rd\, December 18th\, March 5th\, and May 14th.  Upper school showcases will begin at 8:15am.  Lower school showcases will begin at 2:15pm.
URL:https://summitclassicalacademy.org/event/musical-showcase/
END:VEVENT
BEGIN:VEVENT
DTSTART;TZID=America/Denver:20241022T163000
DTEND;TZID=America/Denver:20241022T183000
DTSTAMP:20260419T105200
CREATED:20240910T160159Z
LAST-MODIFIED:20240910T160159Z
UID:2124-1729614600-1729621800@summitclassicalacademy.org
SUMMARY:Girl’s Volleyball Game
DESCRIPTION:AWAY- Elmwood Baptist 4:30pm (MS) & 5:30pm (JV)
URL:https://summitclassicalacademy.org/event/girls-volleyball-game-9/
LOCATION:Elmwood Baptist Academy\, 13100 E. 144th Ave\, Brighton\, CO\, 80601\, United States
END:VEVENT
BEGIN:VEVENT
DTSTART;TZID=America/Denver:20241021T080000
DTEND;TZID=America/Denver:20241021T160000
DTSTAMP:20260419T105200
CREATED:20240918T144047Z
LAST-MODIFIED:20240918T144047Z
UID:2149-1729497600-1729526400@summitclassicalacademy.org
SUMMARY:Teacher Inservice/ No Students
DESCRIPTION:
URL:https://summitclassicalacademy.org/event/teacher-inservice-no-students-7/
END:VEVENT
BEGIN:VEVENT
DTSTART;TZID=America/Denver:20241018T080000
DTEND;TZID=America/Denver:20241018T160000
DTSTAMP:20260419T105200
CREATED:20240918T144003Z
LAST-MODIFIED:20240918T144003Z
UID:2148-1729238400-1729267200@summitclassicalacademy.org
SUMMARY:Early Release Day/ Staff Development
DESCRIPTION:End of Quarter 1 \nALL School early release at 12:00pm
URL:https://summitclassicalacademy.org/event/early-release-day-staff-development/
END:VEVENT
BEGIN:VEVENT
DTSTART;TZID=America/Denver:20241017T160000
DTEND;TZID=America/Denver:20241017T170000
DTSTAMP:20260419T105200
CREATED:20240910T155617Z
LAST-MODIFIED:20240910T155617Z
UID:2122-1729180800-1729184400@summitclassicalacademy.org
SUMMARY:Girl’s Volleyball Game
DESCRIPTION:AWAY- Beth Eden 4:00pm (MS) \n 
URL:https://summitclassicalacademy.org/event/girls-volleyball-game-8/
LOCATION:Beth Eden Baptist\, 2600 Wadsworth Blvd\, Wheat Ridge\, CO\, 80033\, United States
END:VEVENT
BEGIN:VEVENT
DTSTART;TZID=America/Denver:20241009T160000
DTEND;TZID=America/Denver:20241009T180000
DTSTAMP:20260419T105200
CREATED:20240909T175436Z
LAST-MODIFIED:20240909T175436Z
UID:2119-1728489600-1728496800@summitclassicalacademy.org
SUMMARY:Girl’s Volleyball Game
DESCRIPTION:HOME game at Vista Ridge Academy at 4:00pm (MS) & 5:00pm (JV) \n 
URL:https://summitclassicalacademy.org/event/girls-volleyball-game-7/
LOCATION:Vista Ridge Academy\, 3100 Ridge View Dr\, Erie\, 80516\, United States
END:VEVENT
BEGIN:VEVENT
DTSTART;TZID=America/Denver:20241009T090000
DTEND;TZID=America/Denver:20241009T113000
DTSTAMP:20260419T105200
CREATED:20241004T175210Z
LAST-MODIFIED:20241004T175210Z
UID:2252-1728464400-1728473400@summitclassicalacademy.org
SUMMARY:Individual School Pictures
DESCRIPTION:Each class will be getting their individual pictures for the yearbook today-SMILE!
URL:https://summitclassicalacademy.org/event/individual-school-pictures/
END:VEVENT
BEGIN:VEVENT
DTSTART;VALUE=DATE:20241009
DTEND;VALUE=DATE:20241010
DTSTAMP:20260419T105200
CREATED:20241004T175114Z
LAST-MODIFIED:20241004T175114Z
UID:2251-1728432000-1728518399@summitclassicalacademy.org
SUMMARY:MOD Pizza Fundraiser
DESCRIPTION:Stop by MOD Pizza today and support our school for this month’s fundraiser! \n 
URL:https://summitclassicalacademy.org/event/mod-pizza-fundraiser/
END:VEVENT
BEGIN:VEVENT
DTSTART;TZID=America/Denver:20241004T153000
DTEND;TZID=America/Denver:20241004T170000
DTSTAMP:20260419T105200
CREATED:20240918T143748Z
LAST-MODIFIED:20240918T143748Z
UID:2147-1728055800-1728061200@summitclassicalacademy.org
SUMMARY:Fall Family Get Together
DESCRIPTION:Join the SCA community on October 4th from 3:30-5:00 on the  playground and fields for a time of fellowship. Bring lawn games\, chairs\, and cookies to share.  Hot cider will be provided by SCA!
URL:https://summitclassicalacademy.org/event/fall-family-get-together/
LOCATION:Summit Classical Academy\, 3031 West 144th Avenue\, Broomfield\, CO\, 80023\, United States
END:VEVENT
BEGIN:VEVENT
DTSTART;TZID=America/Denver:20241003T173000
DTEND;TZID=America/Denver:20241003T193000
DTSTAMP:20260419T105200
CREATED:20240909T175244Z
LAST-MODIFIED:20241003T152456Z
UID:2118-1727976600-1727983800@summitclassicalacademy.org
SUMMARY:Girl’s Volleyball Game
DESCRIPTION:HOME game at Vista Ridge Academy \nMiddle School double header at 5:30pm & 6:30pm
URL:https://summitclassicalacademy.org/event/girls-volleyball-game-6/
LOCATION:Vista Ridge Academy\, 3100 Ridge View Dr\, Erie\, 80516\, United States
END:VEVENT
BEGIN:VEVENT
DTSTART;TZID=America/Denver:20240930T163000
DTEND;TZID=America/Denver:20240930T183000
DTSTAMP:20260419T105200
CREATED:20240909T174955Z
LAST-MODIFIED:20240909T174955Z
UID:2116-1727713800-1727721000@summitclassicalacademy.org
SUMMARY:Girl’s Volleyball Game
DESCRIPTION:HOME game at Vista Ridge Academy 4:30pm (MS) & 5:30pm (JV) \n 
URL:https://summitclassicalacademy.org/event/girls-volleyball-game-5/
LOCATION:Vista Ridge Academy\, 3100 Ridge View Dr\, Erie\, 80516\, United States
END:VEVENT
BEGIN:VEVENT
DTSTART;TZID=America/Denver:20240927T080000
DTEND;TZID=America/Denver:20240927T170000
DTSTAMP:20260419T105200
CREATED:20240910T195814Z
LAST-MODIFIED:20240910T195814Z
UID:2127-1727424000-1727456400@summitclassicalacademy.org
SUMMARY:Parent/Teacher Conferences
DESCRIPTION:
URL:https://summitclassicalacademy.org/event/parent-teacher-conferences/
END:VEVENT
BEGIN:VEVENT
DTSTART;TZID=America/Denver:20240925T153000
DTEND;TZID=America/Denver:20240925T173000
DTSTAMP:20260419T105200
CREATED:20240909T174256Z
LAST-MODIFIED:20240909T174256Z
UID:2114-1727278200-1727285400@summitclassicalacademy.org
SUMMARY:Girl’s Volleyball Game
DESCRIPTION:AWAY at Aspen Ridge Preparatory School \n3:30pm (JV) & 4:30pm (MS) \n 
URL:https://summitclassicalacademy.org/event/girls-volleyball-game-4/
LOCATION:Aspen Ridge Preparatory School\, 705 Austin Ave\, Erie\, CO\, 80516\, United States
END:VEVENT
BEGIN:VEVENT
DTSTART;VALUE=DATE:20240924
DTEND;VALUE=DATE:20240925
DTSTAMP:20260419T105200
CREATED:20240924T155008Z
LAST-MODIFIED:20240924T155008Z
UID:2168-1727136000-1727222399@summitclassicalacademy.org
SUMMARY:Panda Express Nationwide Online SCA Fundraiser
DESCRIPTION:All day online fundraiser for SCA at Panda Express \nuse code 923125 at checkout
URL:https://summitclassicalacademy.org/event/panda-express-nationwide-online-sca-fundraiser/
END:VEVENT
BEGIN:VEVENT
DTSTART;TZID=America/Denver:20240920T080000
DTEND;TZID=America/Denver:20240920T120000
DTSTAMP:20260419T105200
CREATED:20240910T180628Z
LAST-MODIFIED:20240918T142908Z
UID:2126-1726819200-1726833600@summitclassicalacademy.org
SUMMARY:Early Release/Hat Day
DESCRIPTION:12:00pm Early Release for ALL school \nHat Day! \nThis is a day where students are allowed to wear any kind of hat they wish and they do not have to take it off inside the building. We cannot wait to see what kind of hats the students decide to wear.
URL:https://summitclassicalacademy.org/event/early-release-hat-day/
END:VEVENT
BEGIN:VEVENT
DTSTART;TZID=America/Denver:20240919T060000
DTEND;TZID=America/Denver:20240919T193000
DTSTAMP:20260419T105200
CREATED:20240813T162706Z
LAST-MODIFIED:20240813T162706Z
UID:2069-1726725600-1726774200@summitclassicalacademy.org
SUMMARY:Board Meeting
DESCRIPTION:
URL:https://summitclassicalacademy.org/event/board-meeting-6/
LOCATION:Summit Classical Academy\, 3031 West 144th Avenue\, Broomfield\, CO\, 80023\, United States
ORGANIZER;CN="Summit Classical Academy":MAILTO:Info@SummitClassicalAcademy.org
END:VEVENT
BEGIN:VEVENT
DTSTART;TZID=America/Denver:20240918T163000
DTEND;TZID=America/Denver:20240918T183000
DTSTAMP:20260419T105200
CREATED:20240909T171430Z
LAST-MODIFIED:20240909T171430Z
UID:2112-1726677000-1726684200@summitclassicalacademy.org
SUMMARY:Girl’s Volleyball Game
DESCRIPTION:Girl’s Volleyball Away Game at Flagstaff Academy in Longmont. \nMiddle School double header 4:30pm & 5:30pm
URL:https://summitclassicalacademy.org/event/girls-volleyball-game-3/
LOCATION:Flagstaff Academy\, 2040 Miller Dr\, Longmont\, CO\, 80501\, United States
END:VEVENT
BEGIN:VEVENT
DTSTART;TZID=America/Denver:20240917T163000
DTEND;TZID=America/Denver:20240917T183000
DTSTAMP:20260419T105200
CREATED:20240909T170323Z
LAST-MODIFIED:20240909T170323Z
UID:2110-1726590600-1726597800@summitclassicalacademy.org
SUMMARY:Girl’s Volleyball Game
DESCRIPTION:AWAY game at Loveland Protestant 4:30pm (MS) & 5:30pm (JV)
URL:https://summitclassicalacademy.org/event/girls-volleyball-game-2/
LOCATION:Loveland Protestant\, 1101 Hilltop Dr\, Loveland\, CO\, 80537\, United States
END:VEVENT
BEGIN:VEVENT
DTSTART;TZID=America/Denver:20240913T163000
DTEND;TZID=America/Denver:20240913T183000
DTSTAMP:20260419T105200
CREATED:20240829T145219Z
LAST-MODIFIED:20240910T145226Z
UID:2095-1726245000-1726252200@summitclassicalacademy.org
SUMMARY:Girl's Volleyball Game 4:30pm & 5:30pm
DESCRIPTION:
URL:https://summitclassicalacademy.org/event/girls-volley-ball-game-430pm-530pm/
LOCATION:Front Range Baptist\, 625 E Harmony Road\, Fort Collins\, CO\, 80525\, United States
END:VEVENT
BEGIN:VEVENT
DTSTART;VALUE=DATE:20240904
DTEND;VALUE=DATE:20240907
DTSTAMP:20260419T105200
CREATED:20240813T162619Z
LAST-MODIFIED:20240813T162619Z
UID:2068-1725408000-1725667199@summitclassicalacademy.org
SUMMARY:Upper School Outdoor Education
DESCRIPTION:
URL:https://summitclassicalacademy.org/event/upper-school-outdoor-education/
ORGANIZER;CN="Summit Classical Academy":MAILTO:Info@SummitClassicalAcademy.org
END:VEVENT
BEGIN:VEVENT
DTSTART;VALUE=DATE:20240902
DTEND;VALUE=DATE:20240903
DTSTAMP:20260419T105200
CREATED:20240813T162139Z
LAST-MODIFIED:20240813T162139Z
UID:2067-1725235200-1725321599@summitclassicalacademy.org
SUMMARY:Labor Day- No School
DESCRIPTION:
URL:https://summitclassicalacademy.org/event/labor-day-no-school-4/
LOCATION:Summit Classical Academy\, 3031 West 144th Avenue\, Broomfield\, CO\, 80023\, United States
ORGANIZER;CN="Summit Classical Academy":MAILTO:Info@SummitClassicalAcademy.org
END:VEVENT
BEGIN:VEVENT
DTSTART;TZID=America/Denver:20240829T163000
DTEND;TZID=America/Denver:20240829T183000
DTSTAMP:20260419T105200
CREATED:20240828T165516Z
LAST-MODIFIED:20240828T165516Z
UID:2091-1724949000-1724956200@summitclassicalacademy.org
SUMMARY:Girl's Volleyball Game
DESCRIPTION:
URL:https://summitclassicalacademy.org/event/girls-volleyball-game/
LOCATION:Mile High Academy\, 1733 Dad Clark Dr.\, Highlands Ranch\, CO\, 80126\, United States
END:VEVENT
BEGIN:VEVENT
DTSTART;TZID=America/Denver:20240821T081500
DTEND;TZID=America/Denver:20240821T151500
DTSTAMP:20260419T105200
CREATED:20240813T162009Z
LAST-MODIFIED:20240813T162009Z
UID:2066-1724228100-1724253300@summitclassicalacademy.org
SUMMARY:Beginning of Year Celebration 8:15am
DESCRIPTION:We encourage you to invite your family and friends to join in this celebration. Our day will begin by meeting outside at 8:15 am for all students. This includes Upper School.  Enjoy this one day of starting later than the regularly scheduled 8:00 am start time. New students with their families will be running through the parent tunnel as they join the SCA Warrior Community.  Afterwards we will sing praises to God for his provision and have a time of prayer for the 2024-25 school year. There will NOT be chapel on the first day of school\, so students are not required to wear chapel uniforms that day.
URL:https://summitclassicalacademy.org/event/beginning-of-year-celebration-815am/
LOCATION:Summit Classical Academy\, 3031 West 144th Avenue\, Broomfield\, CO\, 80023\, United States
ORGANIZER;CN="Summit Classical Academy":MAILTO:Info@SummitClassicalAcademy.org
END:VEVENT
BEGIN:VEVENT
DTSTART;TZID=America/Denver:20240819T173000
DTEND;TZID=America/Denver:20240819T193000
DTSTAMP:20260419T105200
CREATED:20240813T161046Z
LAST-MODIFIED:20240813T161046Z
UID:2065-1724088600-1724095800@summitclassicalacademy.org
SUMMARY:Parent Orientation 5:30pm-7:30pm
DESCRIPTION:Parent Orientation will be in the evening from 5:30 pm-7:30 pm. This is a time for parents (without students) to meet with each other and learn about the upcoming school year. Many important documents will be handed out that evening\, so please make sure you plan to attend.
URL:https://summitclassicalacademy.org/event/parent-orientation-530pm-730pm/
LOCATION:Summit Classical Academy\, 3031 West 144th Avenue\, Broomfield\, CO\, 80023\, United States
ORGANIZER;CN="Summit Classical Academy":MAILTO:Info@SummitClassicalAcademy.org
END:VEVENT
BEGIN:VEVENT
DTSTART;TZID=America/Denver:20240819T090000
DTEND;TZID=America/Denver:20240819T110000
DTSTAMP:20260419T105200
CREATED:20240813T160302Z
LAST-MODIFIED:20240813T160302Z
UID:2063-1724058000-1724065200@summitclassicalacademy.org
SUMMARY:Open House 9:00am-11:00am
DESCRIPTION:Open House will be held from 9:00-11:00 am. We will have an open house where students see their friends and meet their teacher(s).
URL:https://summitclassicalacademy.org/event/open-house-900am-1100am/
LOCATION:Summit Classical Academy\, 3031 West 144th Avenue\, Broomfield\, CO\, 80023\, United States
ORGANIZER;CN="Summit Classical Academy":MAILTO:Info@SummitClassicalAcademy.org
END:VEVENT
BEGIN:VEVENT
DTSTART;VALUE=DATE:20240523
DTEND;VALUE=DATE:20240525
DTSTAMP:20260419T105200
CREATED:20230821T230109Z
LAST-MODIFIED:20230821T230109Z
UID:1648-1716422400-1716595199@summitclassicalacademy.org
SUMMARY:Teacher Inservice
DESCRIPTION:
URL:https://summitclassicalacademy.org/event/teacher-inservice-4/
END:VEVENT
BEGIN:VEVENT
DTSTART;TZID=America/Denver:20240522T081500
DTEND;TZID=America/Denver:20240522T120000
DTSTAMP:20260419T105200
CREATED:20230821T225914Z
LAST-MODIFIED:20230821T230000Z
UID:1646-1716365700-1716379200@summitclassicalacademy.org
SUMMARY:End of Quarter | Early Release
DESCRIPTION:
URL:https://summitclassicalacademy.org/event/end-of-quarter-early-release-7/
END:VEVENT
BEGIN:VEVENT
DTSTART;VALUE=DATE:20240520
DTEND;VALUE=DATE:20240521
DTSTAMP:20260419T105200
CREATED:20230821T225143Z
LAST-MODIFIED:20230821T225755Z
UID:1645-1716163200-1716249599@summitclassicalacademy.org
SUMMARY:Field Day
DESCRIPTION:
URL:https://summitclassicalacademy.org/event/field-day-3/
END:VEVENT
BEGIN:VEVENT
DTSTART;TZID=America/Denver:20240511T183000
DTEND;TZID=America/Denver:20240511T210000
DTSTAMP:20260419T105200
CREATED:20230821T225037Z
LAST-MODIFIED:20240422T181653Z
UID:1644-1715452200-1715461200@summitclassicalacademy.org
SUMMARY:Rising to Our Summit Spring Fundraiser
DESCRIPTION:Welcome to the Annual Spring Fundraiser: Rising To Our Summit! Join us at the Omni Interlocken Hotel for an evening brimming with inspiration\, connection\, and giving back. This event offers you the chance to make a meaningful impact while relishing in a delightful evening Rising To Our Summit. Your mode of arrival? The choice is yours. Whether you prefer to hike\, bike\, ski\, or hang glide\, the path is yours to choose. Simply ensure you show up\, see what God is doing at SCA\, and lend your support. Don’t let this opportunity pass you by to be part of something truly remarkable. We’ll see you there! \n  \nPurchase Tickets Here
URL:https://summitclassicalacademy.org/event/spring-fundraiser-3/
LOCATION:Omni Interlocken Hotel\, 500 Interlocken Blvd\, Broomfield\, Colorado\, 80021
ORGANIZER;CN="Summit Classical Academy":MAILTO:Info@SummitClassicalAcademy.org
END:VEVENT
BEGIN:VEVENT
DTSTART;TZID=America/Denver:20240510T081500
DTEND;TZID=America/Denver:20240510T120000
DTSTAMP:20260419T105200
CREATED:20230821T224828Z
LAST-MODIFIED:20230821T224828Z
UID:1643-1715328900-1715342400@summitclassicalacademy.org
SUMMARY:Staff Development | Early Release
DESCRIPTION:
URL:https://summitclassicalacademy.org/event/staff-development-early-release-16/
END:VEVENT
END:VCALENDAR