BEGIN:VCALENDAR
VERSION:2.0
PRODID:-//Summit Classical Academy - ECPv6.15.20//NONSGML v1.0//EN
CALSCALE:GREGORIAN
METHOD:PUBLISH
X-ORIGINAL-URL:https://summitclassicalacademy.org
X-WR-CALDESC:Events for Summit Classical Academy
REFRESH-INTERVAL;VALUE=DURATION:PT1H
X-Robots-Tag:noindex
X-PUBLISHED-TTL:PT1H
BEGIN:VTIMEZONE
TZID:America/Denver
BEGIN:DAYLIGHT
TZOFFSETFROM:-0700
TZOFFSETTO:-0600
TZNAME:MDT
DTSTART:20230312T090000
END:DAYLIGHT
BEGIN:STANDARD
TZOFFSETFROM:-0600
TZOFFSETTO:-0700
TZNAME:MST
DTSTART:20231105T080000
END:STANDARD
BEGIN:DAYLIGHT
TZOFFSETFROM:-0700
TZOFFSETTO:-0600
TZNAME:MDT
DTSTART:20240310T090000
END:DAYLIGHT
BEGIN:STANDARD
TZOFFSETFROM:-0600
TZOFFSETTO:-0700
TZNAME:MST
DTSTART:20241103T080000
END:STANDARD
BEGIN:DAYLIGHT
TZOFFSETFROM:-0700
TZOFFSETTO:-0600
TZNAME:MDT
DTSTART:20250309T090000
END:DAYLIGHT
BEGIN:STANDARD
TZOFFSETFROM:-0600
TZOFFSETTO:-0700
TZNAME:MST
DTSTART:20251102T080000
END:STANDARD
END:VTIMEZONE
BEGIN:VEVENT
DTSTART;TZID=America/Denver:20240913T163000
DTEND;TZID=America/Denver:20240913T183000
DTSTAMP:20260420T063308
CREATED:20240829T145219Z
LAST-MODIFIED:20240910T145226Z
UID:2095-1726245000-1726252200@summitclassicalacademy.org
SUMMARY:Girl's Volleyball Game 4:30pm & 5:30pm
DESCRIPTION:
URL:https://summitclassicalacademy.org/event/girls-volley-ball-game-430pm-530pm/
LOCATION:Front Range Baptist\, 625 E Harmony Road\, Fort Collins\, CO\, 80525\, United States
END:VEVENT
END:VCALENDAR