BEGIN:VCALENDAR
VERSION:2.0
PRODID:-//Summit Classical Academy - ECPv6.15.20//NONSGML v1.0//EN
CALSCALE:GREGORIAN
METHOD:PUBLISH
X-ORIGINAL-URL:https://summitclassicalacademy.org
X-WR-CALDESC:Events for Summit Classical Academy
REFRESH-INTERVAL;VALUE=DURATION:PT1H
X-Robots-Tag:noindex
X-PUBLISHED-TTL:PT1H
BEGIN:VTIMEZONE
TZID:America/Denver
BEGIN:DAYLIGHT
TZOFFSETFROM:-0700
TZOFFSETTO:-0600
TZNAME:MDT
DTSTART:20230312T090000
END:DAYLIGHT
BEGIN:STANDARD
TZOFFSETFROM:-0600
TZOFFSETTO:-0700
TZNAME:MST
DTSTART:20231105T080000
END:STANDARD
BEGIN:DAYLIGHT
TZOFFSETFROM:-0700
TZOFFSETTO:-0600
TZNAME:MDT
DTSTART:20240310T090000
END:DAYLIGHT
BEGIN:STANDARD
TZOFFSETFROM:-0600
TZOFFSETTO:-0700
TZNAME:MST
DTSTART:20241103T080000
END:STANDARD
BEGIN:DAYLIGHT
TZOFFSETFROM:-0700
TZOFFSETTO:-0600
TZNAME:MDT
DTSTART:20250309T090000
END:DAYLIGHT
BEGIN:STANDARD
TZOFFSETFROM:-0600
TZOFFSETTO:-0700
TZNAME:MST
DTSTART:20251102T080000
END:STANDARD
END:VTIMEZONE
BEGIN:VEVENT
DTSTART;TZID=America/Denver:20240821T081500
DTEND;TZID=America/Denver:20240821T151500
DTSTAMP:20260422T081245
CREATED:20240813T162009Z
LAST-MODIFIED:20240813T162009Z
UID:2066-1724228100-1724253300@summitclassicalacademy.org
SUMMARY:Beginning of Year Celebration 8:15am
DESCRIPTION:We encourage you to invite your family and friends to join in this celebration. Our day will begin by meeting outside at 8:15 am for all students. This includes Upper School.  Enjoy this one day of starting later than the regularly scheduled 8:00 am start time. New students with their families will be running through the parent tunnel as they join the SCA Warrior Community.  Afterwards we will sing praises to God for his provision and have a time of prayer for the 2024-25 school year. There will NOT be chapel on the first day of school\, so students are not required to wear chapel uniforms that day.
URL:https://summitclassicalacademy.org/event/beginning-of-year-celebration-815am/
LOCATION:Summit Classical Academy\, 3031 West 144th Avenue\, Broomfield\, CO\, 80023\, United States
ORGANIZER;CN="Summit Classical Academy":MAILTO:Info@SummitClassicalAcademy.org
END:VEVENT
END:VCALENDAR